BEGIN:VCALENDAR
VERSION:2.0
PRODID:-//Stoppestedet - ECPv6.15.17.1//NONSGML v1.0//EN
CALSCALE:GREGORIAN
METHOD:PUBLISH
X-WR-CALNAME:Stoppestedet
X-ORIGINAL-URL:https://stoppestedet.dk
X-WR-CALDESC:Begivenheder for Stoppestedet
REFRESH-INTERVAL;VALUE=DURATION:PT1H
X-Robots-Tag:noindex
X-PUBLISHED-TTL:PT1H
BEGIN:VTIMEZONE
TZID:Europe/Copenhagen
BEGIN:DAYLIGHT
TZOFFSETFROM:+0100
TZOFFSETTO:+0200
TZNAME:CEST
DTSTART:20250330T010000
END:DAYLIGHT
BEGIN:STANDARD
TZOFFSETFROM:+0200
TZOFFSETTO:+0100
TZNAME:CET
DTSTART:20251026T010000
END:STANDARD
BEGIN:DAYLIGHT
TZOFFSETFROM:+0100
TZOFFSETTO:+0200
TZNAME:CEST
DTSTART:20260329T010000
END:DAYLIGHT
BEGIN:STANDARD
TZOFFSETFROM:+0200
TZOFFSETTO:+0100
TZNAME:CET
DTSTART:20261025T010000
END:STANDARD
BEGIN:DAYLIGHT
TZOFFSETFROM:+0100
TZOFFSETTO:+0200
TZNAME:CEST
DTSTART:20270328T010000
END:DAYLIGHT
BEGIN:STANDARD
TZOFFSETFROM:+0200
TZOFFSETTO:+0100
TZNAME:CET
DTSTART:20271031T010000
END:STANDARD
END:VTIMEZONE
BEGIN:VEVENT
DTSTART;TZID=Europe/Copenhagen:20260427T130000
DTEND;TZID=Europe/Copenhagen:20260427T150000
DTSTAMP:20260423T102615
CREATED:20240404T123737Z
LAST-MODIFIED:20250411T101739Z
UID:10004014-1777294800-1777302000@stoppestedet.dk
SUMMARY:Krea på Stoppestedet
DESCRIPTION:Kom og vær’ med til KREA på Stoppestedet!\nVi glæder os til at se dig 😊
URL:https://stoppestedet.dk/aktiviteter/krea-paa-stoppestedet/2026-04-27/
ATTACH;FMTTYPE=image/jpeg:https://stoppestedet.dk/wp-content/uploads/2024/04/Krea.jpg
END:VEVENT
BEGIN:VEVENT
DTSTART;TZID=Europe/Copenhagen:20260504T130000
DTEND;TZID=Europe/Copenhagen:20260504T150000
DTSTAMP:20260423T102615
CREATED:20240404T123737Z
LAST-MODIFIED:20250411T101739Z
UID:10004015-1777899600-1777906800@stoppestedet.dk
SUMMARY:Krea på Stoppestedet
DESCRIPTION:Kom og vær’ med til KREA på Stoppestedet!\nVi glæder os til at se dig 😊
URL:https://stoppestedet.dk/aktiviteter/krea-paa-stoppestedet/2026-05-04/
ATTACH;FMTTYPE=image/jpeg:https://stoppestedet.dk/wp-content/uploads/2024/04/Krea.jpg
END:VEVENT
BEGIN:VEVENT
DTSTART;TZID=Europe/Copenhagen:20260511T130000
DTEND;TZID=Europe/Copenhagen:20260511T150000
DTSTAMP:20260423T102615
CREATED:20240404T123737Z
LAST-MODIFIED:20250411T101739Z
UID:10004016-1778504400-1778511600@stoppestedet.dk
SUMMARY:Krea på Stoppestedet
DESCRIPTION:Kom og vær’ med til KREA på Stoppestedet!\nVi glæder os til at se dig 😊
URL:https://stoppestedet.dk/aktiviteter/krea-paa-stoppestedet/2026-05-11/
ATTACH;FMTTYPE=image/jpeg:https://stoppestedet.dk/wp-content/uploads/2024/04/Krea.jpg
END:VEVENT
BEGIN:VEVENT
DTSTART;TZID=Europe/Copenhagen:20260518T130000
DTEND;TZID=Europe/Copenhagen:20260518T150000
DTSTAMP:20260423T102615
CREATED:20240404T123737Z
LAST-MODIFIED:20250411T101739Z
UID:10004017-1779109200-1779116400@stoppestedet.dk
SUMMARY:Krea på Stoppestedet
DESCRIPTION:Kom og vær’ med til KREA på Stoppestedet!\nVi glæder os til at se dig 😊
URL:https://stoppestedet.dk/aktiviteter/krea-paa-stoppestedet/2026-05-18/
ATTACH;FMTTYPE=image/jpeg:https://stoppestedet.dk/wp-content/uploads/2024/04/Krea.jpg
END:VEVENT
BEGIN:VEVENT
DTSTART;TZID=Europe/Copenhagen:20260525T130000
DTEND;TZID=Europe/Copenhagen:20260525T150000
DTSTAMP:20260423T102615
CREATED:20240404T123737Z
LAST-MODIFIED:20250411T101739Z
UID:10004018-1779714000-1779721200@stoppestedet.dk
SUMMARY:Krea på Stoppestedet
DESCRIPTION:Kom og vær’ med til KREA på Stoppestedet!\nVi glæder os til at se dig 😊
URL:https://stoppestedet.dk/aktiviteter/krea-paa-stoppestedet/2026-05-25/
ATTACH;FMTTYPE=image/jpeg:https://stoppestedet.dk/wp-content/uploads/2024/04/Krea.jpg
END:VEVENT
BEGIN:VEVENT
DTSTART;TZID=Europe/Copenhagen:20260601T130000
DTEND;TZID=Europe/Copenhagen:20260601T150000
DTSTAMP:20260423T102615
CREATED:20240404T123737Z
LAST-MODIFIED:20250411T101739Z
UID:10004019-1780318800-1780326000@stoppestedet.dk
SUMMARY:Krea på Stoppestedet
DESCRIPTION:Kom og vær’ med til KREA på Stoppestedet!\nVi glæder os til at se dig 😊
URL:https://stoppestedet.dk/aktiviteter/krea-paa-stoppestedet/2026-06-01/
ATTACH;FMTTYPE=image/jpeg:https://stoppestedet.dk/wp-content/uploads/2024/04/Krea.jpg
END:VEVENT
BEGIN:VEVENT
DTSTART;TZID=Europe/Copenhagen:20260608T130000
DTEND;TZID=Europe/Copenhagen:20260608T150000
DTSTAMP:20260423T102615
CREATED:20240404T123737Z
LAST-MODIFIED:20250411T101739Z
UID:10004020-1780923600-1780930800@stoppestedet.dk
SUMMARY:Krea på Stoppestedet
DESCRIPTION:Kom og vær’ med til KREA på Stoppestedet!\nVi glæder os til at se dig 😊
URL:https://stoppestedet.dk/aktiviteter/krea-paa-stoppestedet/2026-06-08/
ATTACH;FMTTYPE=image/jpeg:https://stoppestedet.dk/wp-content/uploads/2024/04/Krea.jpg
END:VEVENT
BEGIN:VEVENT
DTSTART;TZID=Europe/Copenhagen:20260615T130000
DTEND;TZID=Europe/Copenhagen:20260615T150000
DTSTAMP:20260423T102615
CREATED:20240404T123737Z
LAST-MODIFIED:20250411T101739Z
UID:10004021-1781528400-1781535600@stoppestedet.dk
SUMMARY:Krea på Stoppestedet
DESCRIPTION:Kom og vær’ med til KREA på Stoppestedet!\nVi glæder os til at se dig 😊
URL:https://stoppestedet.dk/aktiviteter/krea-paa-stoppestedet/2026-06-15/
ATTACH;FMTTYPE=image/jpeg:https://stoppestedet.dk/wp-content/uploads/2024/04/Krea.jpg
END:VEVENT
BEGIN:VEVENT
DTSTART;TZID=Europe/Copenhagen:20260622T130000
DTEND;TZID=Europe/Copenhagen:20260622T150000
DTSTAMP:20260423T102615
CREATED:20240404T123737Z
LAST-MODIFIED:20250411T101739Z
UID:10004022-1782133200-1782140400@stoppestedet.dk
SUMMARY:Krea på Stoppestedet
DESCRIPTION:Kom og vær’ med til KREA på Stoppestedet!\nVi glæder os til at se dig 😊
URL:https://stoppestedet.dk/aktiviteter/krea-paa-stoppestedet/2026-06-22/
ATTACH;FMTTYPE=image/jpeg:https://stoppestedet.dk/wp-content/uploads/2024/04/Krea.jpg
END:VEVENT
BEGIN:VEVENT
DTSTART;TZID=Europe/Copenhagen:20260629T130000
DTEND;TZID=Europe/Copenhagen:20260629T150000
DTSTAMP:20260423T102615
CREATED:20240404T123737Z
LAST-MODIFIED:20250411T101739Z
UID:10004023-1782738000-1782745200@stoppestedet.dk
SUMMARY:Krea på Stoppestedet
DESCRIPTION:Kom og vær’ med til KREA på Stoppestedet!\nVi glæder os til at se dig 😊
URL:https://stoppestedet.dk/aktiviteter/krea-paa-stoppestedet/2026-06-29/
ATTACH;FMTTYPE=image/jpeg:https://stoppestedet.dk/wp-content/uploads/2024/04/Krea.jpg
END:VEVENT
BEGIN:VEVENT
DTSTART;TZID=Europe/Copenhagen:20260706T130000
DTEND;TZID=Europe/Copenhagen:20260706T150000
DTSTAMP:20260423T102616
CREATED:20240404T123737Z
LAST-MODIFIED:20250411T101739Z
UID:10004024-1783342800-1783350000@stoppestedet.dk
SUMMARY:Krea på Stoppestedet
DESCRIPTION:Kom og vær’ med til KREA på Stoppestedet!\nVi glæder os til at se dig 😊
URL:https://stoppestedet.dk/aktiviteter/krea-paa-stoppestedet/2026-07-06/
ATTACH;FMTTYPE=image/jpeg:https://stoppestedet.dk/wp-content/uploads/2024/04/Krea.jpg
END:VEVENT
BEGIN:VEVENT
DTSTART;TZID=Europe/Copenhagen:20260713T130000
DTEND;TZID=Europe/Copenhagen:20260713T150000
DTSTAMP:20260423T102616
CREATED:20240404T123737Z
LAST-MODIFIED:20250411T101739Z
UID:10004025-1783947600-1783954800@stoppestedet.dk
SUMMARY:Krea på Stoppestedet
DESCRIPTION:Kom og vær’ med til KREA på Stoppestedet!\nVi glæder os til at se dig 😊
URL:https://stoppestedet.dk/aktiviteter/krea-paa-stoppestedet/2026-07-13/
ATTACH;FMTTYPE=image/jpeg:https://stoppestedet.dk/wp-content/uploads/2024/04/Krea.jpg
END:VEVENT
BEGIN:VEVENT
DTSTART;TZID=Europe/Copenhagen:20260720T130000
DTEND;TZID=Europe/Copenhagen:20260720T150000
DTSTAMP:20260423T102616
CREATED:20240404T123737Z
LAST-MODIFIED:20250411T101739Z
UID:10004026-1784552400-1784559600@stoppestedet.dk
SUMMARY:Krea på Stoppestedet
DESCRIPTION:Kom og vær’ med til KREA på Stoppestedet!\nVi glæder os til at se dig 😊
URL:https://stoppestedet.dk/aktiviteter/krea-paa-stoppestedet/2026-07-20/
ATTACH;FMTTYPE=image/jpeg:https://stoppestedet.dk/wp-content/uploads/2024/04/Krea.jpg
END:VEVENT
BEGIN:VEVENT
DTSTART;TZID=Europe/Copenhagen:20260727T130000
DTEND;TZID=Europe/Copenhagen:20260727T150000
DTSTAMP:20260423T102616
CREATED:20240404T123737Z
LAST-MODIFIED:20250411T101739Z
UID:10004027-1785157200-1785164400@stoppestedet.dk
SUMMARY:Krea på Stoppestedet
DESCRIPTION:Kom og vær’ med til KREA på Stoppestedet!\nVi glæder os til at se dig 😊
URL:https://stoppestedet.dk/aktiviteter/krea-paa-stoppestedet/2026-07-27/
ATTACH;FMTTYPE=image/jpeg:https://stoppestedet.dk/wp-content/uploads/2024/04/Krea.jpg
END:VEVENT
BEGIN:VEVENT
DTSTART;TZID=Europe/Copenhagen:20260803T130000
DTEND;TZID=Europe/Copenhagen:20260803T150000
DTSTAMP:20260423T102616
CREATED:20240404T123737Z
LAST-MODIFIED:20250411T101739Z
UID:10004028-1785762000-1785769200@stoppestedet.dk
SUMMARY:Krea på Stoppestedet
DESCRIPTION:Kom og vær’ med til KREA på Stoppestedet!\nVi glæder os til at se dig 😊
URL:https://stoppestedet.dk/aktiviteter/krea-paa-stoppestedet/2026-08-03/
ATTACH;FMTTYPE=image/jpeg:https://stoppestedet.dk/wp-content/uploads/2024/04/Krea.jpg
END:VEVENT
BEGIN:VEVENT
DTSTART;TZID=Europe/Copenhagen:20260810T130000
DTEND;TZID=Europe/Copenhagen:20260810T150000
DTSTAMP:20260423T102616
CREATED:20240404T123737Z
LAST-MODIFIED:20250411T101739Z
UID:10004029-1786366800-1786374000@stoppestedet.dk
SUMMARY:Krea på Stoppestedet
DESCRIPTION:Kom og vær’ med til KREA på Stoppestedet!\nVi glæder os til at se dig 😊
URL:https://stoppestedet.dk/aktiviteter/krea-paa-stoppestedet/2026-08-10/
ATTACH;FMTTYPE=image/jpeg:https://stoppestedet.dk/wp-content/uploads/2024/04/Krea.jpg
END:VEVENT
BEGIN:VEVENT
DTSTART;TZID=Europe/Copenhagen:20260817T130000
DTEND;TZID=Europe/Copenhagen:20260817T150000
DTSTAMP:20260423T102616
CREATED:20240404T123737Z
LAST-MODIFIED:20250411T101739Z
UID:10004030-1786971600-1786978800@stoppestedet.dk
SUMMARY:Krea på Stoppestedet
DESCRIPTION:Kom og vær’ med til KREA på Stoppestedet!\nVi glæder os til at se dig 😊
URL:https://stoppestedet.dk/aktiviteter/krea-paa-stoppestedet/2026-08-17/
ATTACH;FMTTYPE=image/jpeg:https://stoppestedet.dk/wp-content/uploads/2024/04/Krea.jpg
END:VEVENT
BEGIN:VEVENT
DTSTART;TZID=Europe/Copenhagen:20260824T130000
DTEND;TZID=Europe/Copenhagen:20260824T150000
DTSTAMP:20260423T102616
CREATED:20240404T123737Z
LAST-MODIFIED:20250411T101739Z
UID:10004031-1787576400-1787583600@stoppestedet.dk
SUMMARY:Krea på Stoppestedet
DESCRIPTION:Kom og vær’ med til KREA på Stoppestedet!\nVi glæder os til at se dig 😊
URL:https://stoppestedet.dk/aktiviteter/krea-paa-stoppestedet/2026-08-24/
ATTACH;FMTTYPE=image/jpeg:https://stoppestedet.dk/wp-content/uploads/2024/04/Krea.jpg
END:VEVENT
BEGIN:VEVENT
DTSTART;TZID=Europe/Copenhagen:20260831T130000
DTEND;TZID=Europe/Copenhagen:20260831T150000
DTSTAMP:20260423T102616
CREATED:20240404T123737Z
LAST-MODIFIED:20250411T101739Z
UID:10004032-1788181200-1788188400@stoppestedet.dk
SUMMARY:Krea på Stoppestedet
DESCRIPTION:Kom og vær’ med til KREA på Stoppestedet!\nVi glæder os til at se dig 😊
URL:https://stoppestedet.dk/aktiviteter/krea-paa-stoppestedet/2026-08-31/
ATTACH;FMTTYPE=image/jpeg:https://stoppestedet.dk/wp-content/uploads/2024/04/Krea.jpg
END:VEVENT
BEGIN:VEVENT
DTSTART;TZID=Europe/Copenhagen:20260907T130000
DTEND;TZID=Europe/Copenhagen:20260907T150000
DTSTAMP:20260423T102616
CREATED:20240404T123737Z
LAST-MODIFIED:20250411T101739Z
UID:10004033-1788786000-1788793200@stoppestedet.dk
SUMMARY:Krea på Stoppestedet
DESCRIPTION:Kom og vær’ med til KREA på Stoppestedet!\nVi glæder os til at se dig 😊
URL:https://stoppestedet.dk/aktiviteter/krea-paa-stoppestedet/2026-09-07/
ATTACH;FMTTYPE=image/jpeg:https://stoppestedet.dk/wp-content/uploads/2024/04/Krea.jpg
END:VEVENT
BEGIN:VEVENT
DTSTART;TZID=Europe/Copenhagen:20260914T130000
DTEND;TZID=Europe/Copenhagen:20260914T150000
DTSTAMP:20260423T102616
CREATED:20240404T123737Z
LAST-MODIFIED:20250411T101739Z
UID:10004034-1789390800-1789398000@stoppestedet.dk
SUMMARY:Krea på Stoppestedet
DESCRIPTION:Kom og vær’ med til KREA på Stoppestedet!\nVi glæder os til at se dig 😊
URL:https://stoppestedet.dk/aktiviteter/krea-paa-stoppestedet/2026-09-14/
ATTACH;FMTTYPE=image/jpeg:https://stoppestedet.dk/wp-content/uploads/2024/04/Krea.jpg
END:VEVENT
BEGIN:VEVENT
DTSTART;TZID=Europe/Copenhagen:20260921T130000
DTEND;TZID=Europe/Copenhagen:20260921T150000
DTSTAMP:20260423T102616
CREATED:20240404T123737Z
LAST-MODIFIED:20250411T101739Z
UID:10004035-1789995600-1790002800@stoppestedet.dk
SUMMARY:Krea på Stoppestedet
DESCRIPTION:Kom og vær’ med til KREA på Stoppestedet!\nVi glæder os til at se dig 😊
URL:https://stoppestedet.dk/aktiviteter/krea-paa-stoppestedet/2026-09-21/
ATTACH;FMTTYPE=image/jpeg:https://stoppestedet.dk/wp-content/uploads/2024/04/Krea.jpg
END:VEVENT
BEGIN:VEVENT
DTSTART;TZID=Europe/Copenhagen:20260928T130000
DTEND;TZID=Europe/Copenhagen:20260928T150000
DTSTAMP:20260423T102616
CREATED:20240404T123737Z
LAST-MODIFIED:20250411T101739Z
UID:10004036-1790600400-1790607600@stoppestedet.dk
SUMMARY:Krea på Stoppestedet
DESCRIPTION:Kom og vær’ med til KREA på Stoppestedet!\nVi glæder os til at se dig 😊
URL:https://stoppestedet.dk/aktiviteter/krea-paa-stoppestedet/2026-09-28/
ATTACH;FMTTYPE=image/jpeg:https://stoppestedet.dk/wp-content/uploads/2024/04/Krea.jpg
END:VEVENT
BEGIN:VEVENT
DTSTART;TZID=Europe/Copenhagen:20261005T130000
DTEND;TZID=Europe/Copenhagen:20261005T150000
DTSTAMP:20260423T102616
CREATED:20240404T123737Z
LAST-MODIFIED:20250411T101739Z
UID:10004037-1791205200-1791212400@stoppestedet.dk
SUMMARY:Krea på Stoppestedet
DESCRIPTION:Kom og vær’ med til KREA på Stoppestedet!\nVi glæder os til at se dig 😊
URL:https://stoppestedet.dk/aktiviteter/krea-paa-stoppestedet/2026-10-05/
ATTACH;FMTTYPE=image/jpeg:https://stoppestedet.dk/wp-content/uploads/2024/04/Krea.jpg
END:VEVENT
BEGIN:VEVENT
DTSTART;TZID=Europe/Copenhagen:20261012T130000
DTEND;TZID=Europe/Copenhagen:20261012T150000
DTSTAMP:20260423T102616
CREATED:20240404T123737Z
LAST-MODIFIED:20250411T101739Z
UID:10004038-1791810000-1791817200@stoppestedet.dk
SUMMARY:Krea på Stoppestedet
DESCRIPTION:Kom og vær’ med til KREA på Stoppestedet!\nVi glæder os til at se dig 😊
URL:https://stoppestedet.dk/aktiviteter/krea-paa-stoppestedet/2026-10-12/
ATTACH;FMTTYPE=image/jpeg:https://stoppestedet.dk/wp-content/uploads/2024/04/Krea.jpg
END:VEVENT
BEGIN:VEVENT
DTSTART;TZID=Europe/Copenhagen:20261019T130000
DTEND;TZID=Europe/Copenhagen:20261019T150000
DTSTAMP:20260423T102616
CREATED:20240404T123737Z
LAST-MODIFIED:20250411T101739Z
UID:10004039-1792414800-1792422000@stoppestedet.dk
SUMMARY:Krea på Stoppestedet
DESCRIPTION:Kom og vær’ med til KREA på Stoppestedet!\nVi glæder os til at se dig 😊
URL:https://stoppestedet.dk/aktiviteter/krea-paa-stoppestedet/2026-10-19/
ATTACH;FMTTYPE=image/jpeg:https://stoppestedet.dk/wp-content/uploads/2024/04/Krea.jpg
END:VEVENT
BEGIN:VEVENT
DTSTART;TZID=Europe/Copenhagen:20261026T130000
DTEND;TZID=Europe/Copenhagen:20261026T150000
DTSTAMP:20260423T102616
CREATED:20240404T123737Z
LAST-MODIFIED:20250411T101739Z
UID:10004040-1793019600-1793026800@stoppestedet.dk
SUMMARY:Krea på Stoppestedet
DESCRIPTION:Kom og vær’ med til KREA på Stoppestedet!\nVi glæder os til at se dig 😊
URL:https://stoppestedet.dk/aktiviteter/krea-paa-stoppestedet/2026-10-26/
ATTACH;FMTTYPE=image/jpeg:https://stoppestedet.dk/wp-content/uploads/2024/04/Krea.jpg
END:VEVENT
BEGIN:VEVENT
DTSTART;TZID=Europe/Copenhagen:20261102T130000
DTEND;TZID=Europe/Copenhagen:20261102T150000
DTSTAMP:20260423T102616
CREATED:20240404T123737Z
LAST-MODIFIED:20250411T101739Z
UID:10004041-1793624400-1793631600@stoppestedet.dk
SUMMARY:Krea på Stoppestedet
DESCRIPTION:Kom og vær’ med til KREA på Stoppestedet!\nVi glæder os til at se dig 😊
URL:https://stoppestedet.dk/aktiviteter/krea-paa-stoppestedet/2026-11-02/
ATTACH;FMTTYPE=image/jpeg:https://stoppestedet.dk/wp-content/uploads/2024/04/Krea.jpg
END:VEVENT
BEGIN:VEVENT
DTSTART;TZID=Europe/Copenhagen:20261109T130000
DTEND;TZID=Europe/Copenhagen:20261109T150000
DTSTAMP:20260423T102616
CREATED:20240404T123737Z
LAST-MODIFIED:20250411T101739Z
UID:10004042-1794229200-1794236400@stoppestedet.dk
SUMMARY:Krea på Stoppestedet
DESCRIPTION:Kom og vær’ med til KREA på Stoppestedet!\nVi glæder os til at se dig 😊
URL:https://stoppestedet.dk/aktiviteter/krea-paa-stoppestedet/2026-11-09/
ATTACH;FMTTYPE=image/jpeg:https://stoppestedet.dk/wp-content/uploads/2024/04/Krea.jpg
END:VEVENT
BEGIN:VEVENT
DTSTART;TZID=Europe/Copenhagen:20261116T130000
DTEND;TZID=Europe/Copenhagen:20261116T150000
DTSTAMP:20260423T102616
CREATED:20240404T123737Z
LAST-MODIFIED:20250411T101739Z
UID:10004043-1794834000-1794841200@stoppestedet.dk
SUMMARY:Krea på Stoppestedet
DESCRIPTION:Kom og vær’ med til KREA på Stoppestedet!\nVi glæder os til at se dig 😊
URL:https://stoppestedet.dk/aktiviteter/krea-paa-stoppestedet/2026-11-16/
ATTACH;FMTTYPE=image/jpeg:https://stoppestedet.dk/wp-content/uploads/2024/04/Krea.jpg
END:VEVENT
END:VCALENDAR