BEGIN:VCALENDAR
VERSION:2.0
PRODID:-//Stoppestedet - ECPv6.15.17.1//NONSGML v1.0//EN
CALSCALE:GREGORIAN
METHOD:PUBLISH
X-ORIGINAL-URL:https://stoppestedet.dk
X-WR-CALDESC:Begivenheder for Stoppestedet
REFRESH-INTERVAL;VALUE=DURATION:PT1H
X-Robots-Tag:noindex
X-PUBLISHED-TTL:PT1H
BEGIN:VTIMEZONE
TZID:Europe/Copenhagen
BEGIN:DAYLIGHT
TZOFFSETFROM:+0100
TZOFFSETTO:+0200
TZNAME:CEST
DTSTART:20200329T010000
END:DAYLIGHT
BEGIN:STANDARD
TZOFFSETFROM:+0200
TZOFFSETTO:+0100
TZNAME:CET
DTSTART:20201025T010000
END:STANDARD
BEGIN:DAYLIGHT
TZOFFSETFROM:+0100
TZOFFSETTO:+0200
TZNAME:CEST
DTSTART:20210328T010000
END:DAYLIGHT
BEGIN:STANDARD
TZOFFSETFROM:+0200
TZOFFSETTO:+0100
TZNAME:CET
DTSTART:20211031T010000
END:STANDARD
BEGIN:DAYLIGHT
TZOFFSETFROM:+0100
TZOFFSETTO:+0200
TZNAME:CEST
DTSTART:20220327T010000
END:DAYLIGHT
BEGIN:STANDARD
TZOFFSETFROM:+0200
TZOFFSETTO:+0100
TZNAME:CET
DTSTART:20221030T010000
END:STANDARD
END:VTIMEZONE
BEGIN:VEVENT
DTSTART;TZID=Europe/Copenhagen:20211214T180000
DTEND;TZID=Europe/Copenhagen:20211214T210000
DTSTAMP:20260420T183454
CREATED:20211117T074921Z
LAST-MODIFIED:20211117T074921Z
UID:10001827-1639504800-1639515600@stoppestedet.dk
SUMMARY:Åbent Sind
DESCRIPTION:ÅbentSINDs julefrokost. OBS dette arrangement kræver tilmelding.\nI år vil årets julefrokost blive afholdt på restaurant Flammen i Odense. Har du lyst til at deltage? Find vores begivenhed på facebookgruppen “åbentsinds ungegruppe”
URL:https://stoppestedet.dk/aktiviteter/aabent-sind-2/2021-12-14/
LOCATION:ÅbentSIND\, Jernbanegade 24 b\, Odense C\, 5000
ATTACH;FMTTYPE=image/png:https://stoppestedet.dk/wp-content/uploads/2021/05/LOGO-ABENT-sind-1-e1625482966580.png
END:VEVENT
BEGIN:VEVENT
DTSTART;TZID=Europe/Copenhagen:20210914T180000
DTEND;TZID=Europe/Copenhagen:20210914T210000
DTSTAMP:20260420T183454
CREATED:20210908T121442Z
LAST-MODIFIED:20210908T121442Z
UID:10001693-1631642400-1631653200@stoppestedet.dk
SUMMARY:POP UP i ÅbentSIND
DESCRIPTION:Ungegruppen tager en tur til Comedy OPEN-MIC. Hvis ikke I har hørt om det før\, er her en beskrivelse:\n\n\n“Comedy Open Mic er en fantastisk mulighed for at slappe helt af og bare grine. Det er nemlig hvad man kalder komikernes legeplads. Her tester komikere nyt materiale\, eller frisker noget gammelt materiale op.”\n\n\nEgenbetaling er på 20kr\, hvilket betales i døren med kontant\, kort eller mobilepay. Det er derudover også muligt at købe drikkevarer.\n\n\n\n\n\nVi mødes foran Stoppestedet kl. 18.15 og går derfra 18.20 hen til Teater95B – Showet begynder kl. 19 og varer til kl. 21.00.
URL:https://stoppestedet.dk/aktiviteter/pop-up-i-aabentsind/
LOCATION:ÅbentSIND\, Jernbanegade 24 b\, Odense C\, 5000
ATTACH;FMTTYPE=image/png:https://stoppestedet.dk/wp-content/uploads/2021/05/LOGO-ABENT-sind-1-e1625482966580.png
END:VEVENT
END:VCALENDAR