BEGIN:VCALENDAR
VERSION:2.0
PRODID:-//Stoppestedet - ECPv6.15.17.1//NONSGML v1.0//EN
CALSCALE:GREGORIAN
METHOD:PUBLISH
X-ORIGINAL-URL:https://stoppestedet.dk
X-WR-CALDESC:Begivenheder for Stoppestedet
REFRESH-INTERVAL;VALUE=DURATION:PT1H
X-Robots-Tag:noindex
X-PUBLISHED-TTL:PT1H
BEGIN:VTIMEZONE
TZID:Europe/Copenhagen
BEGIN:DAYLIGHT
TZOFFSETFROM:+0100
TZOFFSETTO:+0200
TZNAME:CEST
DTSTART:20290325T010000
END:DAYLIGHT
BEGIN:STANDARD
TZOFFSETFROM:+0200
TZOFFSETTO:+0100
TZNAME:CET
DTSTART:20291028T010000
END:STANDARD
BEGIN:DAYLIGHT
TZOFFSETFROM:+0100
TZOFFSETTO:+0200
TZNAME:CEST
DTSTART:20300331T010000
END:DAYLIGHT
BEGIN:STANDARD
TZOFFSETFROM:+0200
TZOFFSETTO:+0100
TZNAME:CET
DTSTART:20301027T010000
END:STANDARD
BEGIN:DAYLIGHT
TZOFFSETFROM:+0100
TZOFFSETTO:+0200
TZNAME:CEST
DTSTART:20310330T010000
END:DAYLIGHT
BEGIN:STANDARD
TZOFFSETFROM:+0200
TZOFFSETTO:+0100
TZNAME:CET
DTSTART:20311026T010000
END:STANDARD
END:VTIMEZONE
BEGIN:VEVENT
DTSTART;TZID=Europe/Copenhagen:20300614T150000
DTEND;TZID=Europe/Copenhagen:20300614T170000
DTSTAMP:20260423T165519
CREATED:20251203T091708Z
LAST-MODIFIED:20251203T093638Z
UID:10004430-1907679600-1907686800@stoppestedet.dk
SUMMARY:Mandegruppe på Stoppestedet - Peer to Peer
DESCRIPTION:Kom til snakkegruppe for mænd. Det er en åben gruppe\, hvor vi snakker\, hygger og drikker kaffe. \nVi mødes i KREA rummet på stoppestedet på fredage i ulige uger kl. 15:00-17:00 \nVi ses! \nHilsen Lars og Jesper
URL:https://stoppestedet.dk/aktiviteter/mandegruppe-paa-stoppestedet-2/2030-06-14/
LOCATION:Stoppestedet\, Jernbanegade 24B\, Odense C\, 5000\, Danmark
ATTACH;FMTTYPE=image/jpeg:https://stoppestedet.dk/wp-content/uploads/2024/01/Mandegruppen-1.jpg
END:VEVENT
BEGIN:VEVENT
DTSTART;TZID=Europe/Copenhagen:20300628T150000
DTEND;TZID=Europe/Copenhagen:20300628T170000
DTSTAMP:20260423T165519
CREATED:20251203T091708Z
LAST-MODIFIED:20251203T093638Z
UID:10004431-1908889200-1908896400@stoppestedet.dk
SUMMARY:Mandegruppe på Stoppestedet - Peer to Peer
DESCRIPTION:Kom til snakkegruppe for mænd. Det er en åben gruppe\, hvor vi snakker\, hygger og drikker kaffe. \nVi mødes i KREA rummet på stoppestedet på fredage i ulige uger kl. 15:00-17:00 \nVi ses! \nHilsen Lars og Jesper
URL:https://stoppestedet.dk/aktiviteter/mandegruppe-paa-stoppestedet-2/2030-06-28/
LOCATION:Stoppestedet\, Jernbanegade 24B\, Odense C\, 5000\, Danmark
ATTACH;FMTTYPE=image/jpeg:https://stoppestedet.dk/wp-content/uploads/2024/01/Mandegruppen-1.jpg
END:VEVENT
BEGIN:VEVENT
DTSTART;TZID=Europe/Copenhagen:20300712T150000
DTEND;TZID=Europe/Copenhagen:20300712T170000
DTSTAMP:20260423T165519
CREATED:20251203T091708Z
LAST-MODIFIED:20251203T093638Z
UID:10004432-1910098800-1910106000@stoppestedet.dk
SUMMARY:Mandegruppe på Stoppestedet - Peer to Peer
DESCRIPTION:Kom til snakkegruppe for mænd. Det er en åben gruppe\, hvor vi snakker\, hygger og drikker kaffe. \nVi mødes i KREA rummet på stoppestedet på fredage i ulige uger kl. 15:00-17:00 \nVi ses! \nHilsen Lars og Jesper
URL:https://stoppestedet.dk/aktiviteter/mandegruppe-paa-stoppestedet-2/2030-07-12/
LOCATION:Stoppestedet\, Jernbanegade 24B\, Odense C\, 5000\, Danmark
ATTACH;FMTTYPE=image/jpeg:https://stoppestedet.dk/wp-content/uploads/2024/01/Mandegruppen-1.jpg
END:VEVENT
BEGIN:VEVENT
DTSTART;TZID=Europe/Copenhagen:20300726T150000
DTEND;TZID=Europe/Copenhagen:20300726T170000
DTSTAMP:20260423T165519
CREATED:20251203T091708Z
LAST-MODIFIED:20251203T093638Z
UID:10004433-1911308400-1911315600@stoppestedet.dk
SUMMARY:Mandegruppe på Stoppestedet - Peer to Peer
DESCRIPTION:Kom til snakkegruppe for mænd. Det er en åben gruppe\, hvor vi snakker\, hygger og drikker kaffe. \nVi mødes i KREA rummet på stoppestedet på fredage i ulige uger kl. 15:00-17:00 \nVi ses! \nHilsen Lars og Jesper
URL:https://stoppestedet.dk/aktiviteter/mandegruppe-paa-stoppestedet-2/2030-07-26/
LOCATION:Stoppestedet\, Jernbanegade 24B\, Odense C\, 5000\, Danmark
ATTACH;FMTTYPE=image/jpeg:https://stoppestedet.dk/wp-content/uploads/2024/01/Mandegruppen-1.jpg
END:VEVENT
BEGIN:VEVENT
DTSTART;TZID=Europe/Copenhagen:20300809T150000
DTEND;TZID=Europe/Copenhagen:20300809T170000
DTSTAMP:20260423T165519
CREATED:20251203T091708Z
LAST-MODIFIED:20251203T093638Z
UID:10004434-1912518000-1912525200@stoppestedet.dk
SUMMARY:Mandegruppe på Stoppestedet - Peer to Peer
DESCRIPTION:Kom til snakkegruppe for mænd. Det er en åben gruppe\, hvor vi snakker\, hygger og drikker kaffe. \nVi mødes i KREA rummet på stoppestedet på fredage i ulige uger kl. 15:00-17:00 \nVi ses! \nHilsen Lars og Jesper
URL:https://stoppestedet.dk/aktiviteter/mandegruppe-paa-stoppestedet-2/2030-08-09/
LOCATION:Stoppestedet\, Jernbanegade 24B\, Odense C\, 5000\, Danmark
ATTACH;FMTTYPE=image/jpeg:https://stoppestedet.dk/wp-content/uploads/2024/01/Mandegruppen-1.jpg
END:VEVENT
BEGIN:VEVENT
DTSTART;TZID=Europe/Copenhagen:20300823T150000
DTEND;TZID=Europe/Copenhagen:20300823T170000
DTSTAMP:20260423T165519
CREATED:20251203T091708Z
LAST-MODIFIED:20251203T093638Z
UID:10004435-1913727600-1913734800@stoppestedet.dk
SUMMARY:Mandegruppe på Stoppestedet - Peer to Peer
DESCRIPTION:Kom til snakkegruppe for mænd. Det er en åben gruppe\, hvor vi snakker\, hygger og drikker kaffe. \nVi mødes i KREA rummet på stoppestedet på fredage i ulige uger kl. 15:00-17:00 \nVi ses! \nHilsen Lars og Jesper
URL:https://stoppestedet.dk/aktiviteter/mandegruppe-paa-stoppestedet-2/2030-08-23/
LOCATION:Stoppestedet\, Jernbanegade 24B\, Odense C\, 5000\, Danmark
ATTACH;FMTTYPE=image/jpeg:https://stoppestedet.dk/wp-content/uploads/2024/01/Mandegruppen-1.jpg
END:VEVENT
BEGIN:VEVENT
DTSTART;TZID=Europe/Copenhagen:20300906T150000
DTEND;TZID=Europe/Copenhagen:20300906T170000
DTSTAMP:20260423T165519
CREATED:20251203T091708Z
LAST-MODIFIED:20251203T093638Z
UID:10004436-1914937200-1914944400@stoppestedet.dk
SUMMARY:Mandegruppe på Stoppestedet - Peer to Peer
DESCRIPTION:Kom til snakkegruppe for mænd. Det er en åben gruppe\, hvor vi snakker\, hygger og drikker kaffe. \nVi mødes i KREA rummet på stoppestedet på fredage i ulige uger kl. 15:00-17:00 \nVi ses! \nHilsen Lars og Jesper
URL:https://stoppestedet.dk/aktiviteter/mandegruppe-paa-stoppestedet-2/2030-09-06/
LOCATION:Stoppestedet\, Jernbanegade 24B\, Odense C\, 5000\, Danmark
ATTACH;FMTTYPE=image/jpeg:https://stoppestedet.dk/wp-content/uploads/2024/01/Mandegruppen-1.jpg
END:VEVENT
BEGIN:VEVENT
DTSTART;TZID=Europe/Copenhagen:20300920T150000
DTEND;TZID=Europe/Copenhagen:20300920T170000
DTSTAMP:20260423T165519
CREATED:20251203T091708Z
LAST-MODIFIED:20251203T093638Z
UID:10004437-1916146800-1916154000@stoppestedet.dk
SUMMARY:Mandegruppe på Stoppestedet - Peer to Peer
DESCRIPTION:Kom til snakkegruppe for mænd. Det er en åben gruppe\, hvor vi snakker\, hygger og drikker kaffe. \nVi mødes i KREA rummet på stoppestedet på fredage i ulige uger kl. 15:00-17:00 \nVi ses! \nHilsen Lars og Jesper
URL:https://stoppestedet.dk/aktiviteter/mandegruppe-paa-stoppestedet-2/2030-09-20/
LOCATION:Stoppestedet\, Jernbanegade 24B\, Odense C\, 5000\, Danmark
ATTACH;FMTTYPE=image/jpeg:https://stoppestedet.dk/wp-content/uploads/2024/01/Mandegruppen-1.jpg
END:VEVENT
BEGIN:VEVENT
DTSTART;TZID=Europe/Copenhagen:20301004T150000
DTEND;TZID=Europe/Copenhagen:20301004T170000
DTSTAMP:20260423T165519
CREATED:20251203T091708Z
LAST-MODIFIED:20251203T093638Z
UID:10004438-1917356400-1917363600@stoppestedet.dk
SUMMARY:Mandegruppe på Stoppestedet - Peer to Peer
DESCRIPTION:Kom til snakkegruppe for mænd. Det er en åben gruppe\, hvor vi snakker\, hygger og drikker kaffe. \nVi mødes i KREA rummet på stoppestedet på fredage i ulige uger kl. 15:00-17:00 \nVi ses! \nHilsen Lars og Jesper
URL:https://stoppestedet.dk/aktiviteter/mandegruppe-paa-stoppestedet-2/2030-10-04/
LOCATION:Stoppestedet\, Jernbanegade 24B\, Odense C\, 5000\, Danmark
ATTACH;FMTTYPE=image/jpeg:https://stoppestedet.dk/wp-content/uploads/2024/01/Mandegruppen-1.jpg
END:VEVENT
BEGIN:VEVENT
DTSTART;TZID=Europe/Copenhagen:20301018T150000
DTEND;TZID=Europe/Copenhagen:20301018T170000
DTSTAMP:20260423T165519
CREATED:20251203T091708Z
LAST-MODIFIED:20251203T093638Z
UID:10004439-1918566000-1918573200@stoppestedet.dk
SUMMARY:Mandegruppe på Stoppestedet - Peer to Peer
DESCRIPTION:Kom til snakkegruppe for mænd. Det er en åben gruppe\, hvor vi snakker\, hygger og drikker kaffe. \nVi mødes i KREA rummet på stoppestedet på fredage i ulige uger kl. 15:00-17:00 \nVi ses! \nHilsen Lars og Jesper
URL:https://stoppestedet.dk/aktiviteter/mandegruppe-paa-stoppestedet-2/2030-10-18/
LOCATION:Stoppestedet\, Jernbanegade 24B\, Odense C\, 5000\, Danmark
ATTACH;FMTTYPE=image/jpeg:https://stoppestedet.dk/wp-content/uploads/2024/01/Mandegruppen-1.jpg
END:VEVENT
BEGIN:VEVENT
DTSTART;TZID=Europe/Copenhagen:20301101T150000
DTEND;TZID=Europe/Copenhagen:20301101T170000
DTSTAMP:20260423T165519
CREATED:20251203T091708Z
LAST-MODIFIED:20251203T093638Z
UID:10004440-1919775600-1919782800@stoppestedet.dk
SUMMARY:Mandegruppe på Stoppestedet - Peer to Peer
DESCRIPTION:Kom til snakkegruppe for mænd. Det er en åben gruppe\, hvor vi snakker\, hygger og drikker kaffe. \nVi mødes i KREA rummet på stoppestedet på fredage i ulige uger kl. 15:00-17:00 \nVi ses! \nHilsen Lars og Jesper
URL:https://stoppestedet.dk/aktiviteter/mandegruppe-paa-stoppestedet-2/2030-11-01/
LOCATION:Stoppestedet\, Jernbanegade 24B\, Odense C\, 5000\, Danmark
ATTACH;FMTTYPE=image/jpeg:https://stoppestedet.dk/wp-content/uploads/2024/01/Mandegruppen-1.jpg
END:VEVENT
BEGIN:VEVENT
DTSTART;TZID=Europe/Copenhagen:20301115T150000
DTEND;TZID=Europe/Copenhagen:20301115T170000
DTSTAMP:20260423T165519
CREATED:20251203T091708Z
LAST-MODIFIED:20251203T093638Z
UID:10004441-1920985200-1920992400@stoppestedet.dk
SUMMARY:Mandegruppe på Stoppestedet - Peer to Peer
DESCRIPTION:Kom til snakkegruppe for mænd. Det er en åben gruppe\, hvor vi snakker\, hygger og drikker kaffe. \nVi mødes i KREA rummet på stoppestedet på fredage i ulige uger kl. 15:00-17:00 \nVi ses! \nHilsen Lars og Jesper
URL:https://stoppestedet.dk/aktiviteter/mandegruppe-paa-stoppestedet-2/2030-11-15/
LOCATION:Stoppestedet\, Jernbanegade 24B\, Odense C\, 5000\, Danmark
ATTACH;FMTTYPE=image/jpeg:https://stoppestedet.dk/wp-content/uploads/2024/01/Mandegruppen-1.jpg
END:VEVENT
BEGIN:VEVENT
DTSTART;TZID=Europe/Copenhagen:20301129T150000
DTEND;TZID=Europe/Copenhagen:20301129T170000
DTSTAMP:20260423T165519
CREATED:20251203T091708Z
LAST-MODIFIED:20251203T093638Z
UID:10004442-1922194800-1922202000@stoppestedet.dk
SUMMARY:Mandegruppe på Stoppestedet - Peer to Peer
DESCRIPTION:Kom til snakkegruppe for mænd. Det er en åben gruppe\, hvor vi snakker\, hygger og drikker kaffe. \nVi mødes i KREA rummet på stoppestedet på fredage i ulige uger kl. 15:00-17:00 \nVi ses! \nHilsen Lars og Jesper
URL:https://stoppestedet.dk/aktiviteter/mandegruppe-paa-stoppestedet-2/2030-11-29/
LOCATION:Stoppestedet\, Jernbanegade 24B\, Odense C\, 5000\, Danmark
ATTACH;FMTTYPE=image/jpeg:https://stoppestedet.dk/wp-content/uploads/2024/01/Mandegruppen-1.jpg
END:VEVENT
END:VCALENDAR