BEGIN:VCALENDAR
VERSION:2.0
PRODID:-//Stoppestedet - ECPv6.15.17.1//NONSGML v1.0//EN
CALSCALE:GREGORIAN
METHOD:PUBLISH
X-ORIGINAL-URL:https://stoppestedet.dk
X-WR-CALDESC:Begivenheder for Stoppestedet
REFRESH-INTERVAL;VALUE=DURATION:PT1H
X-Robots-Tag:noindex
X-PUBLISHED-TTL:PT1H
BEGIN:VTIMEZONE
TZID:Europe/Copenhagen
BEGIN:DAYLIGHT
TZOFFSETFROM:+0100
TZOFFSETTO:+0200
TZNAME:CEST
DTSTART:20250330T010000
END:DAYLIGHT
BEGIN:STANDARD
TZOFFSETFROM:+0200
TZOFFSETTO:+0100
TZNAME:CET
DTSTART:20251026T010000
END:STANDARD
BEGIN:DAYLIGHT
TZOFFSETFROM:+0100
TZOFFSETTO:+0200
TZNAME:CEST
DTSTART:20260329T010000
END:DAYLIGHT
BEGIN:STANDARD
TZOFFSETFROM:+0200
TZOFFSETTO:+0100
TZNAME:CET
DTSTART:20261025T010000
END:STANDARD
BEGIN:DAYLIGHT
TZOFFSETFROM:+0100
TZOFFSETTO:+0200
TZNAME:CEST
DTSTART:20270328T010000
END:DAYLIGHT
BEGIN:STANDARD
TZOFFSETFROM:+0200
TZOFFSETTO:+0100
TZNAME:CET
DTSTART:20271031T010000
END:STANDARD
BEGIN:DAYLIGHT
TZOFFSETFROM:+0100
TZOFFSETTO:+0200
TZNAME:CEST
DTSTART:20280326T010000
END:DAYLIGHT
BEGIN:STANDARD
TZOFFSETFROM:+0200
TZOFFSETTO:+0100
TZNAME:CET
DTSTART:20281029T010000
END:STANDARD
END:VTIMEZONE
BEGIN:VEVENT
DTSTART;TZID=Europe/Copenhagen:20261009T150000
DTEND;TZID=Europe/Copenhagen:20261009T170000
DTSTAMP:20260421T061754
CREATED:20251203T091708Z
LAST-MODIFIED:20251203T093638Z
UID:10002439-1791558000-1791565200@stoppestedet.dk
SUMMARY:Mandegruppe på Stoppestedet - Peer to Peer
DESCRIPTION:Kom til snakkegruppe for mænd. Det er en åben gruppe\, hvor vi snakker\, hygger og drikker kaffe. \nVi mødes i KREA rummet på stoppestedet på fredage i ulige uger kl. 15:00-17:00 \nVi ses! \nHilsen Lars og Jesper
URL:https://stoppestedet.dk/aktiviteter/mandegruppe-paa-stoppestedet-2/2026-10-09/
LOCATION:Stoppestedet\, Jernbanegade 24B\, Odense C\, 5000\, Danmark
ATTACH;FMTTYPE=image/jpeg:https://stoppestedet.dk/wp-content/uploads/2024/01/Mandegruppen-1.jpg
END:VEVENT
BEGIN:VEVENT
DTSTART;TZID=Europe/Copenhagen:20261023T150000
DTEND;TZID=Europe/Copenhagen:20261023T170000
DTSTAMP:20260421T061754
CREATED:20251203T091708Z
LAST-MODIFIED:20251203T093638Z
UID:10002440-1792767600-1792774800@stoppestedet.dk
SUMMARY:Mandegruppe på Stoppestedet - Peer to Peer
DESCRIPTION:Kom til snakkegruppe for mænd. Det er en åben gruppe\, hvor vi snakker\, hygger og drikker kaffe. \nVi mødes i KREA rummet på stoppestedet på fredage i ulige uger kl. 15:00-17:00 \nVi ses! \nHilsen Lars og Jesper
URL:https://stoppestedet.dk/aktiviteter/mandegruppe-paa-stoppestedet-2/2026-10-23/
LOCATION:Stoppestedet\, Jernbanegade 24B\, Odense C\, 5000\, Danmark
ATTACH;FMTTYPE=image/jpeg:https://stoppestedet.dk/wp-content/uploads/2024/01/Mandegruppen-1.jpg
END:VEVENT
BEGIN:VEVENT
DTSTART;TZID=Europe/Copenhagen:20261106T150000
DTEND;TZID=Europe/Copenhagen:20261106T170000
DTSTAMP:20260421T061754
CREATED:20251203T091708Z
LAST-MODIFIED:20251203T093638Z
UID:10002441-1793977200-1793984400@stoppestedet.dk
SUMMARY:Mandegruppe på Stoppestedet - Peer to Peer
DESCRIPTION:Kom til snakkegruppe for mænd. Det er en åben gruppe\, hvor vi snakker\, hygger og drikker kaffe. \nVi mødes i KREA rummet på stoppestedet på fredage i ulige uger kl. 15:00-17:00 \nVi ses! \nHilsen Lars og Jesper
URL:https://stoppestedet.dk/aktiviteter/mandegruppe-paa-stoppestedet-2/2026-11-06/
LOCATION:Stoppestedet\, Jernbanegade 24B\, Odense C\, 5000\, Danmark
ATTACH;FMTTYPE=image/jpeg:https://stoppestedet.dk/wp-content/uploads/2024/01/Mandegruppen-1.jpg
END:VEVENT
BEGIN:VEVENT
DTSTART;TZID=Europe/Copenhagen:20261120T150000
DTEND;TZID=Europe/Copenhagen:20261120T170000
DTSTAMP:20260421T061754
CREATED:20251203T091708Z
LAST-MODIFIED:20251203T093638Z
UID:10002442-1795186800-1795194000@stoppestedet.dk
SUMMARY:Mandegruppe på Stoppestedet - Peer to Peer
DESCRIPTION:Kom til snakkegruppe for mænd. Det er en åben gruppe\, hvor vi snakker\, hygger og drikker kaffe. \nVi mødes i KREA rummet på stoppestedet på fredage i ulige uger kl. 15:00-17:00 \nVi ses! \nHilsen Lars og Jesper
URL:https://stoppestedet.dk/aktiviteter/mandegruppe-paa-stoppestedet-2/2026-11-20/
LOCATION:Stoppestedet\, Jernbanegade 24B\, Odense C\, 5000\, Danmark
ATTACH;FMTTYPE=image/jpeg:https://stoppestedet.dk/wp-content/uploads/2024/01/Mandegruppen-1.jpg
END:VEVENT
BEGIN:VEVENT
DTSTART;TZID=Europe/Copenhagen:20261204T150000
DTEND;TZID=Europe/Copenhagen:20261204T170000
DTSTAMP:20260421T061754
CREATED:20251203T091708Z
LAST-MODIFIED:20251203T093638Z
UID:10002443-1796396400-1796403600@stoppestedet.dk
SUMMARY:Mandegruppe på Stoppestedet - Peer to Peer
DESCRIPTION:Kom til snakkegruppe for mænd. Det er en åben gruppe\, hvor vi snakker\, hygger og drikker kaffe. \nVi mødes i KREA rummet på stoppestedet på fredage i ulige uger kl. 15:00-17:00 \nVi ses! \nHilsen Lars og Jesper
URL:https://stoppestedet.dk/aktiviteter/mandegruppe-paa-stoppestedet-2/2026-12-04/
LOCATION:Stoppestedet\, Jernbanegade 24B\, Odense C\, 5000\, Danmark
ATTACH;FMTTYPE=image/jpeg:https://stoppestedet.dk/wp-content/uploads/2024/01/Mandegruppen-1.jpg
END:VEVENT
BEGIN:VEVENT
DTSTART;TZID=Europe/Copenhagen:20261218T150000
DTEND;TZID=Europe/Copenhagen:20261218T170000
DTSTAMP:20260421T061754
CREATED:20251203T091708Z
LAST-MODIFIED:20251203T093638Z
UID:10002444-1797606000-1797613200@stoppestedet.dk
SUMMARY:Mandegruppe på Stoppestedet - Peer to Peer
DESCRIPTION:Kom til snakkegruppe for mænd. Det er en åben gruppe\, hvor vi snakker\, hygger og drikker kaffe. \nVi mødes i KREA rummet på stoppestedet på fredage i ulige uger kl. 15:00-17:00 \nVi ses! \nHilsen Lars og Jesper
URL:https://stoppestedet.dk/aktiviteter/mandegruppe-paa-stoppestedet-2/2026-12-18/
LOCATION:Stoppestedet\, Jernbanegade 24B\, Odense C\, 5000\, Danmark
ATTACH;FMTTYPE=image/jpeg:https://stoppestedet.dk/wp-content/uploads/2024/01/Mandegruppen-1.jpg
END:VEVENT
BEGIN:VEVENT
DTSTART;TZID=Europe/Copenhagen:20270101T150000
DTEND;TZID=Europe/Copenhagen:20270101T170000
DTSTAMP:20260421T061754
CREATED:20251203T091708Z
LAST-MODIFIED:20251203T093638Z
UID:10002445-1798815600-1798822800@stoppestedet.dk
SUMMARY:Mandegruppe på Stoppestedet - Peer to Peer
DESCRIPTION:Kom til snakkegruppe for mænd. Det er en åben gruppe\, hvor vi snakker\, hygger og drikker kaffe. \nVi mødes i KREA rummet på stoppestedet på fredage i ulige uger kl. 15:00-17:00 \nVi ses! \nHilsen Lars og Jesper
URL:https://stoppestedet.dk/aktiviteter/mandegruppe-paa-stoppestedet-2/2027-01-01/
LOCATION:Stoppestedet\, Jernbanegade 24B\, Odense C\, 5000\, Danmark
ATTACH;FMTTYPE=image/jpeg:https://stoppestedet.dk/wp-content/uploads/2024/01/Mandegruppen-1.jpg
END:VEVENT
BEGIN:VEVENT
DTSTART;TZID=Europe/Copenhagen:20270115T150000
DTEND;TZID=Europe/Copenhagen:20270115T170000
DTSTAMP:20260421T061754
CREATED:20251203T091708Z
LAST-MODIFIED:20251203T093638Z
UID:10002446-1800025200-1800032400@stoppestedet.dk
SUMMARY:Mandegruppe på Stoppestedet - Peer to Peer
DESCRIPTION:Kom til snakkegruppe for mænd. Det er en åben gruppe\, hvor vi snakker\, hygger og drikker kaffe. \nVi mødes i KREA rummet på stoppestedet på fredage i ulige uger kl. 15:00-17:00 \nVi ses! \nHilsen Lars og Jesper
URL:https://stoppestedet.dk/aktiviteter/mandegruppe-paa-stoppestedet-2/2027-01-15/
LOCATION:Stoppestedet\, Jernbanegade 24B\, Odense C\, 5000\, Danmark
ATTACH;FMTTYPE=image/jpeg:https://stoppestedet.dk/wp-content/uploads/2024/01/Mandegruppen-1.jpg
END:VEVENT
BEGIN:VEVENT
DTSTART;TZID=Europe/Copenhagen:20270129T150000
DTEND;TZID=Europe/Copenhagen:20270129T170000
DTSTAMP:20260421T061754
CREATED:20251203T091708Z
LAST-MODIFIED:20251203T093638Z
UID:10002447-1801234800-1801242000@stoppestedet.dk
SUMMARY:Mandegruppe på Stoppestedet - Peer to Peer
DESCRIPTION:Kom til snakkegruppe for mænd. Det er en åben gruppe\, hvor vi snakker\, hygger og drikker kaffe. \nVi mødes i KREA rummet på stoppestedet på fredage i ulige uger kl. 15:00-17:00 \nVi ses! \nHilsen Lars og Jesper
URL:https://stoppestedet.dk/aktiviteter/mandegruppe-paa-stoppestedet-2/2027-01-29/
LOCATION:Stoppestedet\, Jernbanegade 24B\, Odense C\, 5000\, Danmark
ATTACH;FMTTYPE=image/jpeg:https://stoppestedet.dk/wp-content/uploads/2024/01/Mandegruppen-1.jpg
END:VEVENT
BEGIN:VEVENT
DTSTART;TZID=Europe/Copenhagen:20270212T150000
DTEND;TZID=Europe/Copenhagen:20270212T170000
DTSTAMP:20260421T061754
CREATED:20251203T091708Z
LAST-MODIFIED:20251203T093638Z
UID:10002448-1802444400-1802451600@stoppestedet.dk
SUMMARY:Mandegruppe på Stoppestedet - Peer to Peer
DESCRIPTION:Kom til snakkegruppe for mænd. Det er en åben gruppe\, hvor vi snakker\, hygger og drikker kaffe. \nVi mødes i KREA rummet på stoppestedet på fredage i ulige uger kl. 15:00-17:00 \nVi ses! \nHilsen Lars og Jesper
URL:https://stoppestedet.dk/aktiviteter/mandegruppe-paa-stoppestedet-2/2027-02-12/
LOCATION:Stoppestedet\, Jernbanegade 24B\, Odense C\, 5000\, Danmark
ATTACH;FMTTYPE=image/jpeg:https://stoppestedet.dk/wp-content/uploads/2024/01/Mandegruppen-1.jpg
END:VEVENT
BEGIN:VEVENT
DTSTART;TZID=Europe/Copenhagen:20270226T150000
DTEND;TZID=Europe/Copenhagen:20270226T170000
DTSTAMP:20260421T061754
CREATED:20251203T091708Z
LAST-MODIFIED:20251203T093638Z
UID:10002449-1803654000-1803661200@stoppestedet.dk
SUMMARY:Mandegruppe på Stoppestedet - Peer to Peer
DESCRIPTION:Kom til snakkegruppe for mænd. Det er en åben gruppe\, hvor vi snakker\, hygger og drikker kaffe. \nVi mødes i KREA rummet på stoppestedet på fredage i ulige uger kl. 15:00-17:00 \nVi ses! \nHilsen Lars og Jesper
URL:https://stoppestedet.dk/aktiviteter/mandegruppe-paa-stoppestedet-2/2027-02-26/
LOCATION:Stoppestedet\, Jernbanegade 24B\, Odense C\, 5000\, Danmark
ATTACH;FMTTYPE=image/jpeg:https://stoppestedet.dk/wp-content/uploads/2024/01/Mandegruppen-1.jpg
END:VEVENT
BEGIN:VEVENT
DTSTART;TZID=Europe/Copenhagen:20270312T150000
DTEND;TZID=Europe/Copenhagen:20270312T170000
DTSTAMP:20260421T061754
CREATED:20251203T091708Z
LAST-MODIFIED:20251203T093638Z
UID:10002450-1804863600-1804870800@stoppestedet.dk
SUMMARY:Mandegruppe på Stoppestedet - Peer to Peer
DESCRIPTION:Kom til snakkegruppe for mænd. Det er en åben gruppe\, hvor vi snakker\, hygger og drikker kaffe. \nVi mødes i KREA rummet på stoppestedet på fredage i ulige uger kl. 15:00-17:00 \nVi ses! \nHilsen Lars og Jesper
URL:https://stoppestedet.dk/aktiviteter/mandegruppe-paa-stoppestedet-2/2027-03-12/
LOCATION:Stoppestedet\, Jernbanegade 24B\, Odense C\, 5000\, Danmark
ATTACH;FMTTYPE=image/jpeg:https://stoppestedet.dk/wp-content/uploads/2024/01/Mandegruppen-1.jpg
END:VEVENT
BEGIN:VEVENT
DTSTART;TZID=Europe/Copenhagen:20270326T150000
DTEND;TZID=Europe/Copenhagen:20270326T170000
DTSTAMP:20260421T061754
CREATED:20251203T091708Z
LAST-MODIFIED:20251203T093638Z
UID:10002451-1806073200-1806080400@stoppestedet.dk
SUMMARY:Mandegruppe på Stoppestedet - Peer to Peer
DESCRIPTION:Kom til snakkegruppe for mænd. Det er en åben gruppe\, hvor vi snakker\, hygger og drikker kaffe. \nVi mødes i KREA rummet på stoppestedet på fredage i ulige uger kl. 15:00-17:00 \nVi ses! \nHilsen Lars og Jesper
URL:https://stoppestedet.dk/aktiviteter/mandegruppe-paa-stoppestedet-2/2027-03-26/
LOCATION:Stoppestedet\, Jernbanegade 24B\, Odense C\, 5000\, Danmark
ATTACH;FMTTYPE=image/jpeg:https://stoppestedet.dk/wp-content/uploads/2024/01/Mandegruppen-1.jpg
END:VEVENT
BEGIN:VEVENT
DTSTART;TZID=Europe/Copenhagen:20270409T150000
DTEND;TZID=Europe/Copenhagen:20270409T170000
DTSTAMP:20260421T061754
CREATED:20251203T091708Z
LAST-MODIFIED:20251203T093638Z
UID:10002452-1807282800-1807290000@stoppestedet.dk
SUMMARY:Mandegruppe på Stoppestedet - Peer to Peer
DESCRIPTION:Kom til snakkegruppe for mænd. Det er en åben gruppe\, hvor vi snakker\, hygger og drikker kaffe. \nVi mødes i KREA rummet på stoppestedet på fredage i ulige uger kl. 15:00-17:00 \nVi ses! \nHilsen Lars og Jesper
URL:https://stoppestedet.dk/aktiviteter/mandegruppe-paa-stoppestedet-2/2027-04-09/
LOCATION:Stoppestedet\, Jernbanegade 24B\, Odense C\, 5000\, Danmark
ATTACH;FMTTYPE=image/jpeg:https://stoppestedet.dk/wp-content/uploads/2024/01/Mandegruppen-1.jpg
END:VEVENT
BEGIN:VEVENT
DTSTART;TZID=Europe/Copenhagen:20270423T150000
DTEND;TZID=Europe/Copenhagen:20270423T170000
DTSTAMP:20260421T061754
CREATED:20251203T091708Z
LAST-MODIFIED:20251203T093638Z
UID:10002453-1808492400-1808499600@stoppestedet.dk
SUMMARY:Mandegruppe på Stoppestedet - Peer to Peer
DESCRIPTION:Kom til snakkegruppe for mænd. Det er en åben gruppe\, hvor vi snakker\, hygger og drikker kaffe. \nVi mødes i KREA rummet på stoppestedet på fredage i ulige uger kl. 15:00-17:00 \nVi ses! \nHilsen Lars og Jesper
URL:https://stoppestedet.dk/aktiviteter/mandegruppe-paa-stoppestedet-2/2027-04-23/
LOCATION:Stoppestedet\, Jernbanegade 24B\, Odense C\, 5000\, Danmark
ATTACH;FMTTYPE=image/jpeg:https://stoppestedet.dk/wp-content/uploads/2024/01/Mandegruppen-1.jpg
END:VEVENT
BEGIN:VEVENT
DTSTART;TZID=Europe/Copenhagen:20270507T150000
DTEND;TZID=Europe/Copenhagen:20270507T170000
DTSTAMP:20260421T061754
CREATED:20251203T091708Z
LAST-MODIFIED:20251203T093638Z
UID:10002454-1809702000-1809709200@stoppestedet.dk
SUMMARY:Mandegruppe på Stoppestedet - Peer to Peer
DESCRIPTION:Kom til snakkegruppe for mænd. Det er en åben gruppe\, hvor vi snakker\, hygger og drikker kaffe. \nVi mødes i KREA rummet på stoppestedet på fredage i ulige uger kl. 15:00-17:00 \nVi ses! \nHilsen Lars og Jesper
URL:https://stoppestedet.dk/aktiviteter/mandegruppe-paa-stoppestedet-2/2027-05-07/
LOCATION:Stoppestedet\, Jernbanegade 24B\, Odense C\, 5000\, Danmark
ATTACH;FMTTYPE=image/jpeg:https://stoppestedet.dk/wp-content/uploads/2024/01/Mandegruppen-1.jpg
END:VEVENT
BEGIN:VEVENT
DTSTART;TZID=Europe/Copenhagen:20270521T150000
DTEND;TZID=Europe/Copenhagen:20270521T170000
DTSTAMP:20260421T061754
CREATED:20251203T091708Z
LAST-MODIFIED:20251203T093638Z
UID:10002455-1810911600-1810918800@stoppestedet.dk
SUMMARY:Mandegruppe på Stoppestedet - Peer to Peer
DESCRIPTION:Kom til snakkegruppe for mænd. Det er en åben gruppe\, hvor vi snakker\, hygger og drikker kaffe. \nVi mødes i KREA rummet på stoppestedet på fredage i ulige uger kl. 15:00-17:00 \nVi ses! \nHilsen Lars og Jesper
URL:https://stoppestedet.dk/aktiviteter/mandegruppe-paa-stoppestedet-2/2027-05-21/
LOCATION:Stoppestedet\, Jernbanegade 24B\, Odense C\, 5000\, Danmark
ATTACH;FMTTYPE=image/jpeg:https://stoppestedet.dk/wp-content/uploads/2024/01/Mandegruppen-1.jpg
END:VEVENT
BEGIN:VEVENT
DTSTART;TZID=Europe/Copenhagen:20270604T150000
DTEND;TZID=Europe/Copenhagen:20270604T170000
DTSTAMP:20260421T061754
CREATED:20251203T091708Z
LAST-MODIFIED:20251203T093638Z
UID:10002456-1812121200-1812128400@stoppestedet.dk
SUMMARY:Mandegruppe på Stoppestedet - Peer to Peer
DESCRIPTION:Kom til snakkegruppe for mænd. Det er en åben gruppe\, hvor vi snakker\, hygger og drikker kaffe. \nVi mødes i KREA rummet på stoppestedet på fredage i ulige uger kl. 15:00-17:00 \nVi ses! \nHilsen Lars og Jesper
URL:https://stoppestedet.dk/aktiviteter/mandegruppe-paa-stoppestedet-2/2027-06-04/
LOCATION:Stoppestedet\, Jernbanegade 24B\, Odense C\, 5000\, Danmark
ATTACH;FMTTYPE=image/jpeg:https://stoppestedet.dk/wp-content/uploads/2024/01/Mandegruppen-1.jpg
END:VEVENT
BEGIN:VEVENT
DTSTART;TZID=Europe/Copenhagen:20270618T150000
DTEND;TZID=Europe/Copenhagen:20270618T170000
DTSTAMP:20260421T061754
CREATED:20251203T091708Z
LAST-MODIFIED:20251203T093638Z
UID:10002457-1813330800-1813338000@stoppestedet.dk
SUMMARY:Mandegruppe på Stoppestedet - Peer to Peer
DESCRIPTION:Kom til snakkegruppe for mænd. Det er en åben gruppe\, hvor vi snakker\, hygger og drikker kaffe. \nVi mødes i KREA rummet på stoppestedet på fredage i ulige uger kl. 15:00-17:00 \nVi ses! \nHilsen Lars og Jesper
URL:https://stoppestedet.dk/aktiviteter/mandegruppe-paa-stoppestedet-2/2027-06-18/
LOCATION:Stoppestedet\, Jernbanegade 24B\, Odense C\, 5000\, Danmark
ATTACH;FMTTYPE=image/jpeg:https://stoppestedet.dk/wp-content/uploads/2024/01/Mandegruppen-1.jpg
END:VEVENT
BEGIN:VEVENT
DTSTART;TZID=Europe/Copenhagen:20270702T150000
DTEND;TZID=Europe/Copenhagen:20270702T170000
DTSTAMP:20260421T061754
CREATED:20251203T091708Z
LAST-MODIFIED:20251203T093638Z
UID:10002458-1814540400-1814547600@stoppestedet.dk
SUMMARY:Mandegruppe på Stoppestedet - Peer to Peer
DESCRIPTION:Kom til snakkegruppe for mænd. Det er en åben gruppe\, hvor vi snakker\, hygger og drikker kaffe. \nVi mødes i KREA rummet på stoppestedet på fredage i ulige uger kl. 15:00-17:00 \nVi ses! \nHilsen Lars og Jesper
URL:https://stoppestedet.dk/aktiviteter/mandegruppe-paa-stoppestedet-2/2027-07-02/
LOCATION:Stoppestedet\, Jernbanegade 24B\, Odense C\, 5000\, Danmark
ATTACH;FMTTYPE=image/jpeg:https://stoppestedet.dk/wp-content/uploads/2024/01/Mandegruppen-1.jpg
END:VEVENT
BEGIN:VEVENT
DTSTART;TZID=Europe/Copenhagen:20270716T150000
DTEND;TZID=Europe/Copenhagen:20270716T170000
DTSTAMP:20260421T061754
CREATED:20251203T091708Z
LAST-MODIFIED:20251203T093638Z
UID:10002459-1815750000-1815757200@stoppestedet.dk
SUMMARY:Mandegruppe på Stoppestedet - Peer to Peer
DESCRIPTION:Kom til snakkegruppe for mænd. Det er en åben gruppe\, hvor vi snakker\, hygger og drikker kaffe. \nVi mødes i KREA rummet på stoppestedet på fredage i ulige uger kl. 15:00-17:00 \nVi ses! \nHilsen Lars og Jesper
URL:https://stoppestedet.dk/aktiviteter/mandegruppe-paa-stoppestedet-2/2027-07-16/
LOCATION:Stoppestedet\, Jernbanegade 24B\, Odense C\, 5000\, Danmark
ATTACH;FMTTYPE=image/jpeg:https://stoppestedet.dk/wp-content/uploads/2024/01/Mandegruppen-1.jpg
END:VEVENT
BEGIN:VEVENT
DTSTART;TZID=Europe/Copenhagen:20270730T150000
DTEND;TZID=Europe/Copenhagen:20270730T170000
DTSTAMP:20260421T061754
CREATED:20251203T091708Z
LAST-MODIFIED:20251203T093638Z
UID:10002460-1816959600-1816966800@stoppestedet.dk
SUMMARY:Mandegruppe på Stoppestedet - Peer to Peer
DESCRIPTION:Kom til snakkegruppe for mænd. Det er en åben gruppe\, hvor vi snakker\, hygger og drikker kaffe. \nVi mødes i KREA rummet på stoppestedet på fredage i ulige uger kl. 15:00-17:00 \nVi ses! \nHilsen Lars og Jesper
URL:https://stoppestedet.dk/aktiviteter/mandegruppe-paa-stoppestedet-2/2027-07-30/
LOCATION:Stoppestedet\, Jernbanegade 24B\, Odense C\, 5000\, Danmark
ATTACH;FMTTYPE=image/jpeg:https://stoppestedet.dk/wp-content/uploads/2024/01/Mandegruppen-1.jpg
END:VEVENT
BEGIN:VEVENT
DTSTART;TZID=Europe/Copenhagen:20270813T150000
DTEND;TZID=Europe/Copenhagen:20270813T170000
DTSTAMP:20260421T061754
CREATED:20251203T091708Z
LAST-MODIFIED:20251203T093638Z
UID:10002461-1818169200-1818176400@stoppestedet.dk
SUMMARY:Mandegruppe på Stoppestedet - Peer to Peer
DESCRIPTION:Kom til snakkegruppe for mænd. Det er en åben gruppe\, hvor vi snakker\, hygger og drikker kaffe. \nVi mødes i KREA rummet på stoppestedet på fredage i ulige uger kl. 15:00-17:00 \nVi ses! \nHilsen Lars og Jesper
URL:https://stoppestedet.dk/aktiviteter/mandegruppe-paa-stoppestedet-2/2027-08-13/
LOCATION:Stoppestedet\, Jernbanegade 24B\, Odense C\, 5000\, Danmark
ATTACH;FMTTYPE=image/jpeg:https://stoppestedet.dk/wp-content/uploads/2024/01/Mandegruppen-1.jpg
END:VEVENT
BEGIN:VEVENT
DTSTART;TZID=Europe/Copenhagen:20270827T150000
DTEND;TZID=Europe/Copenhagen:20270827T170000
DTSTAMP:20260421T061754
CREATED:20251203T091708Z
LAST-MODIFIED:20251203T093638Z
UID:10002462-1819378800-1819386000@stoppestedet.dk
SUMMARY:Mandegruppe på Stoppestedet - Peer to Peer
DESCRIPTION:Kom til snakkegruppe for mænd. Det er en åben gruppe\, hvor vi snakker\, hygger og drikker kaffe. \nVi mødes i KREA rummet på stoppestedet på fredage i ulige uger kl. 15:00-17:00 \nVi ses! \nHilsen Lars og Jesper
URL:https://stoppestedet.dk/aktiviteter/mandegruppe-paa-stoppestedet-2/2027-08-27/
LOCATION:Stoppestedet\, Jernbanegade 24B\, Odense C\, 5000\, Danmark
ATTACH;FMTTYPE=image/jpeg:https://stoppestedet.dk/wp-content/uploads/2024/01/Mandegruppen-1.jpg
END:VEVENT
BEGIN:VEVENT
DTSTART;TZID=Europe/Copenhagen:20270910T150000
DTEND;TZID=Europe/Copenhagen:20270910T170000
DTSTAMP:20260421T061754
CREATED:20251203T091708Z
LAST-MODIFIED:20251203T093638Z
UID:10002463-1820588400-1820595600@stoppestedet.dk
SUMMARY:Mandegruppe på Stoppestedet - Peer to Peer
DESCRIPTION:Kom til snakkegruppe for mænd. Det er en åben gruppe\, hvor vi snakker\, hygger og drikker kaffe. \nVi mødes i KREA rummet på stoppestedet på fredage i ulige uger kl. 15:00-17:00 \nVi ses! \nHilsen Lars og Jesper
URL:https://stoppestedet.dk/aktiviteter/mandegruppe-paa-stoppestedet-2/2027-09-10/
LOCATION:Stoppestedet\, Jernbanegade 24B\, Odense C\, 5000\, Danmark
ATTACH;FMTTYPE=image/jpeg:https://stoppestedet.dk/wp-content/uploads/2024/01/Mandegruppen-1.jpg
END:VEVENT
BEGIN:VEVENT
DTSTART;TZID=Europe/Copenhagen:20270924T150000
DTEND;TZID=Europe/Copenhagen:20270924T170000
DTSTAMP:20260421T061754
CREATED:20251203T091708Z
LAST-MODIFIED:20251203T093638Z
UID:10002464-1821798000-1821805200@stoppestedet.dk
SUMMARY:Mandegruppe på Stoppestedet - Peer to Peer
DESCRIPTION:Kom til snakkegruppe for mænd. Det er en åben gruppe\, hvor vi snakker\, hygger og drikker kaffe. \nVi mødes i KREA rummet på stoppestedet på fredage i ulige uger kl. 15:00-17:00 \nVi ses! \nHilsen Lars og Jesper
URL:https://stoppestedet.dk/aktiviteter/mandegruppe-paa-stoppestedet-2/2027-09-24/
LOCATION:Stoppestedet\, Jernbanegade 24B\, Odense C\, 5000\, Danmark
ATTACH;FMTTYPE=image/jpeg:https://stoppestedet.dk/wp-content/uploads/2024/01/Mandegruppen-1.jpg
END:VEVENT
BEGIN:VEVENT
DTSTART;TZID=Europe/Copenhagen:20271008T150000
DTEND;TZID=Europe/Copenhagen:20271008T170000
DTSTAMP:20260421T061754
CREATED:20251203T091708Z
LAST-MODIFIED:20251203T093638Z
UID:10002465-1823007600-1823014800@stoppestedet.dk
SUMMARY:Mandegruppe på Stoppestedet - Peer to Peer
DESCRIPTION:Kom til snakkegruppe for mænd. Det er en åben gruppe\, hvor vi snakker\, hygger og drikker kaffe. \nVi mødes i KREA rummet på stoppestedet på fredage i ulige uger kl. 15:00-17:00 \nVi ses! \nHilsen Lars og Jesper
URL:https://stoppestedet.dk/aktiviteter/mandegruppe-paa-stoppestedet-2/2027-10-08/
LOCATION:Stoppestedet\, Jernbanegade 24B\, Odense C\, 5000\, Danmark
ATTACH;FMTTYPE=image/jpeg:https://stoppestedet.dk/wp-content/uploads/2024/01/Mandegruppen-1.jpg
END:VEVENT
BEGIN:VEVENT
DTSTART;TZID=Europe/Copenhagen:20271022T150000
DTEND;TZID=Europe/Copenhagen:20271022T170000
DTSTAMP:20260421T061755
CREATED:20251203T091708Z
LAST-MODIFIED:20251203T093638Z
UID:10002466-1824217200-1824224400@stoppestedet.dk
SUMMARY:Mandegruppe på Stoppestedet - Peer to Peer
DESCRIPTION:Kom til snakkegruppe for mænd. Det er en åben gruppe\, hvor vi snakker\, hygger og drikker kaffe. \nVi mødes i KREA rummet på stoppestedet på fredage i ulige uger kl. 15:00-17:00 \nVi ses! \nHilsen Lars og Jesper
URL:https://stoppestedet.dk/aktiviteter/mandegruppe-paa-stoppestedet-2/2027-10-22/
LOCATION:Stoppestedet\, Jernbanegade 24B\, Odense C\, 5000\, Danmark
ATTACH;FMTTYPE=image/jpeg:https://stoppestedet.dk/wp-content/uploads/2024/01/Mandegruppen-1.jpg
END:VEVENT
BEGIN:VEVENT
DTSTART;TZID=Europe/Copenhagen:20271105T150000
DTEND;TZID=Europe/Copenhagen:20271105T170000
DTSTAMP:20260421T061755
CREATED:20251203T091708Z
LAST-MODIFIED:20251203T093638Z
UID:10002467-1825426800-1825434000@stoppestedet.dk
SUMMARY:Mandegruppe på Stoppestedet - Peer to Peer
DESCRIPTION:Kom til snakkegruppe for mænd. Det er en åben gruppe\, hvor vi snakker\, hygger og drikker kaffe. \nVi mødes i KREA rummet på stoppestedet på fredage i ulige uger kl. 15:00-17:00 \nVi ses! \nHilsen Lars og Jesper
URL:https://stoppestedet.dk/aktiviteter/mandegruppe-paa-stoppestedet-2/2027-11-05/
LOCATION:Stoppestedet\, Jernbanegade 24B\, Odense C\, 5000\, Danmark
ATTACH;FMTTYPE=image/jpeg:https://stoppestedet.dk/wp-content/uploads/2024/01/Mandegruppen-1.jpg
END:VEVENT
BEGIN:VEVENT
DTSTART;TZID=Europe/Copenhagen:20271119T150000
DTEND;TZID=Europe/Copenhagen:20271119T170000
DTSTAMP:20260421T061755
CREATED:20251203T091708Z
LAST-MODIFIED:20251203T093638Z
UID:10002468-1826636400-1826643600@stoppestedet.dk
SUMMARY:Mandegruppe på Stoppestedet - Peer to Peer
DESCRIPTION:Kom til snakkegruppe for mænd. Det er en åben gruppe\, hvor vi snakker\, hygger og drikker kaffe. \nVi mødes i KREA rummet på stoppestedet på fredage i ulige uger kl. 15:00-17:00 \nVi ses! \nHilsen Lars og Jesper
URL:https://stoppestedet.dk/aktiviteter/mandegruppe-paa-stoppestedet-2/2027-11-19/
LOCATION:Stoppestedet\, Jernbanegade 24B\, Odense C\, 5000\, Danmark
ATTACH;FMTTYPE=image/jpeg:https://stoppestedet.dk/wp-content/uploads/2024/01/Mandegruppen-1.jpg
END:VEVENT
END:VCALENDAR