BEGIN:VCALENDAR
VERSION:2.0
PRODID:-//Stoppestedet - ECPv6.15.17.1//NONSGML v1.0//EN
CALSCALE:GREGORIAN
METHOD:PUBLISH
X-ORIGINAL-URL:https://stoppestedet.dk
X-WR-CALDESC:Begivenheder for Stoppestedet
REFRESH-INTERVAL;VALUE=DURATION:PT1H
X-Robots-Tag:noindex
X-PUBLISHED-TTL:PT1H
BEGIN:VTIMEZONE
TZID:Europe/Copenhagen
BEGIN:DAYLIGHT
TZOFFSETFROM:+0100
TZOFFSETTO:+0200
TZNAME:CEST
DTSTART:20260329T010000
END:DAYLIGHT
BEGIN:STANDARD
TZOFFSETFROM:+0200
TZOFFSETTO:+0100
TZNAME:CET
DTSTART:20261025T010000
END:STANDARD
BEGIN:DAYLIGHT
TZOFFSETFROM:+0100
TZOFFSETTO:+0200
TZNAME:CEST
DTSTART:20270328T010000
END:DAYLIGHT
BEGIN:STANDARD
TZOFFSETFROM:+0200
TZOFFSETTO:+0100
TZNAME:CET
DTSTART:20271031T010000
END:STANDARD
BEGIN:DAYLIGHT
TZOFFSETFROM:+0100
TZOFFSETTO:+0200
TZNAME:CEST
DTSTART:20280326T010000
END:DAYLIGHT
BEGIN:STANDARD
TZOFFSETFROM:+0200
TZOFFSETTO:+0100
TZNAME:CET
DTSTART:20281029T010000
END:STANDARD
BEGIN:DAYLIGHT
TZOFFSETFROM:+0100
TZOFFSETTO:+0200
TZNAME:CEST
DTSTART:20290325T010000
END:DAYLIGHT
BEGIN:STANDARD
TZOFFSETFROM:+0200
TZOFFSETTO:+0100
TZNAME:CET
DTSTART:20291028T010000
END:STANDARD
END:VTIMEZONE
BEGIN:VEVENT
DTSTART;TZID=Europe/Copenhagen:20270910T150000
DTEND;TZID=Europe/Copenhagen:20270910T170000
DTSTAMP:20260421T092347
CREATED:20251203T091708Z
LAST-MODIFIED:20251203T093638Z
UID:10002463-1820588400-1820595600@stoppestedet.dk
SUMMARY:Mandegruppe på Stoppestedet - Peer to Peer
DESCRIPTION:Kom til snakkegruppe for mænd. Det er en åben gruppe\, hvor vi snakker\, hygger og drikker kaffe. \nVi mødes i KREA rummet på stoppestedet på fredage i ulige uger kl. 15:00-17:00 \nVi ses! \nHilsen Lars og Jesper
URL:https://stoppestedet.dk/aktiviteter/mandegruppe-paa-stoppestedet-2/2027-09-10/
LOCATION:Stoppestedet\, Jernbanegade 24B\, Odense C\, 5000\, Danmark
ATTACH;FMTTYPE=image/jpeg:https://stoppestedet.dk/wp-content/uploads/2024/01/Mandegruppen-1.jpg
END:VEVENT
BEGIN:VEVENT
DTSTART;TZID=Europe/Copenhagen:20270924T150000
DTEND;TZID=Europe/Copenhagen:20270924T170000
DTSTAMP:20260421T092347
CREATED:20251203T091708Z
LAST-MODIFIED:20251203T093638Z
UID:10002464-1821798000-1821805200@stoppestedet.dk
SUMMARY:Mandegruppe på Stoppestedet - Peer to Peer
DESCRIPTION:Kom til snakkegruppe for mænd. Det er en åben gruppe\, hvor vi snakker\, hygger og drikker kaffe. \nVi mødes i KREA rummet på stoppestedet på fredage i ulige uger kl. 15:00-17:00 \nVi ses! \nHilsen Lars og Jesper
URL:https://stoppestedet.dk/aktiviteter/mandegruppe-paa-stoppestedet-2/2027-09-24/
LOCATION:Stoppestedet\, Jernbanegade 24B\, Odense C\, 5000\, Danmark
ATTACH;FMTTYPE=image/jpeg:https://stoppestedet.dk/wp-content/uploads/2024/01/Mandegruppen-1.jpg
END:VEVENT
BEGIN:VEVENT
DTSTART;TZID=Europe/Copenhagen:20271008T150000
DTEND;TZID=Europe/Copenhagen:20271008T170000
DTSTAMP:20260421T092347
CREATED:20251203T091708Z
LAST-MODIFIED:20251203T093638Z
UID:10002465-1823007600-1823014800@stoppestedet.dk
SUMMARY:Mandegruppe på Stoppestedet - Peer to Peer
DESCRIPTION:Kom til snakkegruppe for mænd. Det er en åben gruppe\, hvor vi snakker\, hygger og drikker kaffe. \nVi mødes i KREA rummet på stoppestedet på fredage i ulige uger kl. 15:00-17:00 \nVi ses! \nHilsen Lars og Jesper
URL:https://stoppestedet.dk/aktiviteter/mandegruppe-paa-stoppestedet-2/2027-10-08/
LOCATION:Stoppestedet\, Jernbanegade 24B\, Odense C\, 5000\, Danmark
ATTACH;FMTTYPE=image/jpeg:https://stoppestedet.dk/wp-content/uploads/2024/01/Mandegruppen-1.jpg
END:VEVENT
BEGIN:VEVENT
DTSTART;TZID=Europe/Copenhagen:20271022T150000
DTEND;TZID=Europe/Copenhagen:20271022T170000
DTSTAMP:20260421T092347
CREATED:20251203T091708Z
LAST-MODIFIED:20251203T093638Z
UID:10002466-1824217200-1824224400@stoppestedet.dk
SUMMARY:Mandegruppe på Stoppestedet - Peer to Peer
DESCRIPTION:Kom til snakkegruppe for mænd. Det er en åben gruppe\, hvor vi snakker\, hygger og drikker kaffe. \nVi mødes i KREA rummet på stoppestedet på fredage i ulige uger kl. 15:00-17:00 \nVi ses! \nHilsen Lars og Jesper
URL:https://stoppestedet.dk/aktiviteter/mandegruppe-paa-stoppestedet-2/2027-10-22/
LOCATION:Stoppestedet\, Jernbanegade 24B\, Odense C\, 5000\, Danmark
ATTACH;FMTTYPE=image/jpeg:https://stoppestedet.dk/wp-content/uploads/2024/01/Mandegruppen-1.jpg
END:VEVENT
BEGIN:VEVENT
DTSTART;TZID=Europe/Copenhagen:20271105T150000
DTEND;TZID=Europe/Copenhagen:20271105T170000
DTSTAMP:20260421T092347
CREATED:20251203T091708Z
LAST-MODIFIED:20251203T093638Z
UID:10002467-1825426800-1825434000@stoppestedet.dk
SUMMARY:Mandegruppe på Stoppestedet - Peer to Peer
DESCRIPTION:Kom til snakkegruppe for mænd. Det er en åben gruppe\, hvor vi snakker\, hygger og drikker kaffe. \nVi mødes i KREA rummet på stoppestedet på fredage i ulige uger kl. 15:00-17:00 \nVi ses! \nHilsen Lars og Jesper
URL:https://stoppestedet.dk/aktiviteter/mandegruppe-paa-stoppestedet-2/2027-11-05/
LOCATION:Stoppestedet\, Jernbanegade 24B\, Odense C\, 5000\, Danmark
ATTACH;FMTTYPE=image/jpeg:https://stoppestedet.dk/wp-content/uploads/2024/01/Mandegruppen-1.jpg
END:VEVENT
BEGIN:VEVENT
DTSTART;TZID=Europe/Copenhagen:20271119T150000
DTEND;TZID=Europe/Copenhagen:20271119T170000
DTSTAMP:20260421T092347
CREATED:20251203T091708Z
LAST-MODIFIED:20251203T093638Z
UID:10002468-1826636400-1826643600@stoppestedet.dk
SUMMARY:Mandegruppe på Stoppestedet - Peer to Peer
DESCRIPTION:Kom til snakkegruppe for mænd. Det er en åben gruppe\, hvor vi snakker\, hygger og drikker kaffe. \nVi mødes i KREA rummet på stoppestedet på fredage i ulige uger kl. 15:00-17:00 \nVi ses! \nHilsen Lars og Jesper
URL:https://stoppestedet.dk/aktiviteter/mandegruppe-paa-stoppestedet-2/2027-11-19/
LOCATION:Stoppestedet\, Jernbanegade 24B\, Odense C\, 5000\, Danmark
ATTACH;FMTTYPE=image/jpeg:https://stoppestedet.dk/wp-content/uploads/2024/01/Mandegruppen-1.jpg
END:VEVENT
BEGIN:VEVENT
DTSTART;TZID=Europe/Copenhagen:20271203T150000
DTEND;TZID=Europe/Copenhagen:20271203T170000
DTSTAMP:20260421T092347
CREATED:20251203T091708Z
LAST-MODIFIED:20251203T093638Z
UID:10002469-1827846000-1827853200@stoppestedet.dk
SUMMARY:Mandegruppe på Stoppestedet - Peer to Peer
DESCRIPTION:Kom til snakkegruppe for mænd. Det er en åben gruppe\, hvor vi snakker\, hygger og drikker kaffe. \nVi mødes i KREA rummet på stoppestedet på fredage i ulige uger kl. 15:00-17:00 \nVi ses! \nHilsen Lars og Jesper
URL:https://stoppestedet.dk/aktiviteter/mandegruppe-paa-stoppestedet-2/2027-12-03/
LOCATION:Stoppestedet\, Jernbanegade 24B\, Odense C\, 5000\, Danmark
ATTACH;FMTTYPE=image/jpeg:https://stoppestedet.dk/wp-content/uploads/2024/01/Mandegruppen-1.jpg
END:VEVENT
BEGIN:VEVENT
DTSTART;TZID=Europe/Copenhagen:20271217T150000
DTEND;TZID=Europe/Copenhagen:20271217T170000
DTSTAMP:20260421T092347
CREATED:20251203T091708Z
LAST-MODIFIED:20251203T093638Z
UID:10002470-1829055600-1829062800@stoppestedet.dk
SUMMARY:Mandegruppe på Stoppestedet - Peer to Peer
DESCRIPTION:Kom til snakkegruppe for mænd. Det er en åben gruppe\, hvor vi snakker\, hygger og drikker kaffe. \nVi mødes i KREA rummet på stoppestedet på fredage i ulige uger kl. 15:00-17:00 \nVi ses! \nHilsen Lars og Jesper
URL:https://stoppestedet.dk/aktiviteter/mandegruppe-paa-stoppestedet-2/2027-12-17/
LOCATION:Stoppestedet\, Jernbanegade 24B\, Odense C\, 5000\, Danmark
ATTACH;FMTTYPE=image/jpeg:https://stoppestedet.dk/wp-content/uploads/2024/01/Mandegruppen-1.jpg
END:VEVENT
BEGIN:VEVENT
DTSTART;TZID=Europe/Copenhagen:20271231T150000
DTEND;TZID=Europe/Copenhagen:20271231T170000
DTSTAMP:20260421T092347
CREATED:20251203T091708Z
LAST-MODIFIED:20251203T093638Z
UID:10002471-1830265200-1830272400@stoppestedet.dk
SUMMARY:Mandegruppe på Stoppestedet - Peer to Peer
DESCRIPTION:Kom til snakkegruppe for mænd. Det er en åben gruppe\, hvor vi snakker\, hygger og drikker kaffe. \nVi mødes i KREA rummet på stoppestedet på fredage i ulige uger kl. 15:00-17:00 \nVi ses! \nHilsen Lars og Jesper
URL:https://stoppestedet.dk/aktiviteter/mandegruppe-paa-stoppestedet-2/2027-12-31/
LOCATION:Stoppestedet\, Jernbanegade 24B\, Odense C\, 5000\, Danmark
ATTACH;FMTTYPE=image/jpeg:https://stoppestedet.dk/wp-content/uploads/2024/01/Mandegruppen-1.jpg
END:VEVENT
BEGIN:VEVENT
DTSTART;TZID=Europe/Copenhagen:20280114T150000
DTEND;TZID=Europe/Copenhagen:20280114T170000
DTSTAMP:20260421T092347
CREATED:20251203T091708Z
LAST-MODIFIED:20251203T093638Z
UID:10002472-1831474800-1831482000@stoppestedet.dk
SUMMARY:Mandegruppe på Stoppestedet - Peer to Peer
DESCRIPTION:Kom til snakkegruppe for mænd. Det er en åben gruppe\, hvor vi snakker\, hygger og drikker kaffe. \nVi mødes i KREA rummet på stoppestedet på fredage i ulige uger kl. 15:00-17:00 \nVi ses! \nHilsen Lars og Jesper
URL:https://stoppestedet.dk/aktiviteter/mandegruppe-paa-stoppestedet-2/2028-01-14/
LOCATION:Stoppestedet\, Jernbanegade 24B\, Odense C\, 5000\, Danmark
ATTACH;FMTTYPE=image/jpeg:https://stoppestedet.dk/wp-content/uploads/2024/01/Mandegruppen-1.jpg
END:VEVENT
BEGIN:VEVENT
DTSTART;TZID=Europe/Copenhagen:20280128T150000
DTEND;TZID=Europe/Copenhagen:20280128T170000
DTSTAMP:20260421T092347
CREATED:20251203T091708Z
LAST-MODIFIED:20251203T093638Z
UID:10002473-1832684400-1832691600@stoppestedet.dk
SUMMARY:Mandegruppe på Stoppestedet - Peer to Peer
DESCRIPTION:Kom til snakkegruppe for mænd. Det er en åben gruppe\, hvor vi snakker\, hygger og drikker kaffe. \nVi mødes i KREA rummet på stoppestedet på fredage i ulige uger kl. 15:00-17:00 \nVi ses! \nHilsen Lars og Jesper
URL:https://stoppestedet.dk/aktiviteter/mandegruppe-paa-stoppestedet-2/2028-01-28/
LOCATION:Stoppestedet\, Jernbanegade 24B\, Odense C\, 5000\, Danmark
ATTACH;FMTTYPE=image/jpeg:https://stoppestedet.dk/wp-content/uploads/2024/01/Mandegruppen-1.jpg
END:VEVENT
BEGIN:VEVENT
DTSTART;TZID=Europe/Copenhagen:20280211T150000
DTEND;TZID=Europe/Copenhagen:20280211T170000
DTSTAMP:20260421T092347
CREATED:20251203T091708Z
LAST-MODIFIED:20251203T093638Z
UID:10002474-1833894000-1833901200@stoppestedet.dk
SUMMARY:Mandegruppe på Stoppestedet - Peer to Peer
DESCRIPTION:Kom til snakkegruppe for mænd. Det er en åben gruppe\, hvor vi snakker\, hygger og drikker kaffe. \nVi mødes i KREA rummet på stoppestedet på fredage i ulige uger kl. 15:00-17:00 \nVi ses! \nHilsen Lars og Jesper
URL:https://stoppestedet.dk/aktiviteter/mandegruppe-paa-stoppestedet-2/2028-02-11/
LOCATION:Stoppestedet\, Jernbanegade 24B\, Odense C\, 5000\, Danmark
ATTACH;FMTTYPE=image/jpeg:https://stoppestedet.dk/wp-content/uploads/2024/01/Mandegruppen-1.jpg
END:VEVENT
BEGIN:VEVENT
DTSTART;TZID=Europe/Copenhagen:20280225T150000
DTEND;TZID=Europe/Copenhagen:20280225T170000
DTSTAMP:20260421T092347
CREATED:20251203T091708Z
LAST-MODIFIED:20251203T093638Z
UID:10002475-1835103600-1835110800@stoppestedet.dk
SUMMARY:Mandegruppe på Stoppestedet - Peer to Peer
DESCRIPTION:Kom til snakkegruppe for mænd. Det er en åben gruppe\, hvor vi snakker\, hygger og drikker kaffe. \nVi mødes i KREA rummet på stoppestedet på fredage i ulige uger kl. 15:00-17:00 \nVi ses! \nHilsen Lars og Jesper
URL:https://stoppestedet.dk/aktiviteter/mandegruppe-paa-stoppestedet-2/2028-02-25/
LOCATION:Stoppestedet\, Jernbanegade 24B\, Odense C\, 5000\, Danmark
ATTACH;FMTTYPE=image/jpeg:https://stoppestedet.dk/wp-content/uploads/2024/01/Mandegruppen-1.jpg
END:VEVENT
BEGIN:VEVENT
DTSTART;TZID=Europe/Copenhagen:20280310T150000
DTEND;TZID=Europe/Copenhagen:20280310T170000
DTSTAMP:20260421T092347
CREATED:20251203T091708Z
LAST-MODIFIED:20251203T093638Z
UID:10002476-1836313200-1836320400@stoppestedet.dk
SUMMARY:Mandegruppe på Stoppestedet - Peer to Peer
DESCRIPTION:Kom til snakkegruppe for mænd. Det er en åben gruppe\, hvor vi snakker\, hygger og drikker kaffe. \nVi mødes i KREA rummet på stoppestedet på fredage i ulige uger kl. 15:00-17:00 \nVi ses! \nHilsen Lars og Jesper
URL:https://stoppestedet.dk/aktiviteter/mandegruppe-paa-stoppestedet-2/2028-03-10/
LOCATION:Stoppestedet\, Jernbanegade 24B\, Odense C\, 5000\, Danmark
ATTACH;FMTTYPE=image/jpeg:https://stoppestedet.dk/wp-content/uploads/2024/01/Mandegruppen-1.jpg
END:VEVENT
BEGIN:VEVENT
DTSTART;TZID=Europe/Copenhagen:20280324T150000
DTEND;TZID=Europe/Copenhagen:20280324T170000
DTSTAMP:20260421T092347
CREATED:20251203T091708Z
LAST-MODIFIED:20251203T093638Z
UID:10002477-1837522800-1837530000@stoppestedet.dk
SUMMARY:Mandegruppe på Stoppestedet - Peer to Peer
DESCRIPTION:Kom til snakkegruppe for mænd. Det er en åben gruppe\, hvor vi snakker\, hygger og drikker kaffe. \nVi mødes i KREA rummet på stoppestedet på fredage i ulige uger kl. 15:00-17:00 \nVi ses! \nHilsen Lars og Jesper
URL:https://stoppestedet.dk/aktiviteter/mandegruppe-paa-stoppestedet-2/2028-03-24/
LOCATION:Stoppestedet\, Jernbanegade 24B\, Odense C\, 5000\, Danmark
ATTACH;FMTTYPE=image/jpeg:https://stoppestedet.dk/wp-content/uploads/2024/01/Mandegruppen-1.jpg
END:VEVENT
BEGIN:VEVENT
DTSTART;TZID=Europe/Copenhagen:20280407T150000
DTEND;TZID=Europe/Copenhagen:20280407T170000
DTSTAMP:20260421T092347
CREATED:20251203T091708Z
LAST-MODIFIED:20251203T093638Z
UID:10002478-1838732400-1838739600@stoppestedet.dk
SUMMARY:Mandegruppe på Stoppestedet - Peer to Peer
DESCRIPTION:Kom til snakkegruppe for mænd. Det er en åben gruppe\, hvor vi snakker\, hygger og drikker kaffe. \nVi mødes i KREA rummet på stoppestedet på fredage i ulige uger kl. 15:00-17:00 \nVi ses! \nHilsen Lars og Jesper
URL:https://stoppestedet.dk/aktiviteter/mandegruppe-paa-stoppestedet-2/2028-04-07/
LOCATION:Stoppestedet\, Jernbanegade 24B\, Odense C\, 5000\, Danmark
ATTACH;FMTTYPE=image/jpeg:https://stoppestedet.dk/wp-content/uploads/2024/01/Mandegruppen-1.jpg
END:VEVENT
BEGIN:VEVENT
DTSTART;TZID=Europe/Copenhagen:20280421T150000
DTEND;TZID=Europe/Copenhagen:20280421T170000
DTSTAMP:20260421T092347
CREATED:20251203T091708Z
LAST-MODIFIED:20251203T093638Z
UID:10002479-1839942000-1839949200@stoppestedet.dk
SUMMARY:Mandegruppe på Stoppestedet - Peer to Peer
DESCRIPTION:Kom til snakkegruppe for mænd. Det er en åben gruppe\, hvor vi snakker\, hygger og drikker kaffe. \nVi mødes i KREA rummet på stoppestedet på fredage i ulige uger kl. 15:00-17:00 \nVi ses! \nHilsen Lars og Jesper
URL:https://stoppestedet.dk/aktiviteter/mandegruppe-paa-stoppestedet-2/2028-04-21/
LOCATION:Stoppestedet\, Jernbanegade 24B\, Odense C\, 5000\, Danmark
ATTACH;FMTTYPE=image/jpeg:https://stoppestedet.dk/wp-content/uploads/2024/01/Mandegruppen-1.jpg
END:VEVENT
BEGIN:VEVENT
DTSTART;TZID=Europe/Copenhagen:20280505T150000
DTEND;TZID=Europe/Copenhagen:20280505T170000
DTSTAMP:20260421T092347
CREATED:20251203T091708Z
LAST-MODIFIED:20251203T093638Z
UID:10002480-1841151600-1841158800@stoppestedet.dk
SUMMARY:Mandegruppe på Stoppestedet - Peer to Peer
DESCRIPTION:Kom til snakkegruppe for mænd. Det er en åben gruppe\, hvor vi snakker\, hygger og drikker kaffe. \nVi mødes i KREA rummet på stoppestedet på fredage i ulige uger kl. 15:00-17:00 \nVi ses! \nHilsen Lars og Jesper
URL:https://stoppestedet.dk/aktiviteter/mandegruppe-paa-stoppestedet-2/2028-05-05/
LOCATION:Stoppestedet\, Jernbanegade 24B\, Odense C\, 5000\, Danmark
ATTACH;FMTTYPE=image/jpeg:https://stoppestedet.dk/wp-content/uploads/2024/01/Mandegruppen-1.jpg
END:VEVENT
BEGIN:VEVENT
DTSTART;TZID=Europe/Copenhagen:20280519T150000
DTEND;TZID=Europe/Copenhagen:20280519T170000
DTSTAMP:20260421T092347
CREATED:20251203T091708Z
LAST-MODIFIED:20251203T093638Z
UID:10002481-1842361200-1842368400@stoppestedet.dk
SUMMARY:Mandegruppe på Stoppestedet - Peer to Peer
DESCRIPTION:Kom til snakkegruppe for mænd. Det er en åben gruppe\, hvor vi snakker\, hygger og drikker kaffe. \nVi mødes i KREA rummet på stoppestedet på fredage i ulige uger kl. 15:00-17:00 \nVi ses! \nHilsen Lars og Jesper
URL:https://stoppestedet.dk/aktiviteter/mandegruppe-paa-stoppestedet-2/2028-05-19/
LOCATION:Stoppestedet\, Jernbanegade 24B\, Odense C\, 5000\, Danmark
ATTACH;FMTTYPE=image/jpeg:https://stoppestedet.dk/wp-content/uploads/2024/01/Mandegruppen-1.jpg
END:VEVENT
BEGIN:VEVENT
DTSTART;TZID=Europe/Copenhagen:20280602T150000
DTEND;TZID=Europe/Copenhagen:20280602T170000
DTSTAMP:20260421T092347
CREATED:20251203T091708Z
LAST-MODIFIED:20251203T093638Z
UID:10002482-1843570800-1843578000@stoppestedet.dk
SUMMARY:Mandegruppe på Stoppestedet - Peer to Peer
DESCRIPTION:Kom til snakkegruppe for mænd. Det er en åben gruppe\, hvor vi snakker\, hygger og drikker kaffe. \nVi mødes i KREA rummet på stoppestedet på fredage i ulige uger kl. 15:00-17:00 \nVi ses! \nHilsen Lars og Jesper
URL:https://stoppestedet.dk/aktiviteter/mandegruppe-paa-stoppestedet-2/2028-06-02/
LOCATION:Stoppestedet\, Jernbanegade 24B\, Odense C\, 5000\, Danmark
ATTACH;FMTTYPE=image/jpeg:https://stoppestedet.dk/wp-content/uploads/2024/01/Mandegruppen-1.jpg
END:VEVENT
BEGIN:VEVENT
DTSTART;TZID=Europe/Copenhagen:20280616T150000
DTEND;TZID=Europe/Copenhagen:20280616T170000
DTSTAMP:20260421T092347
CREATED:20251203T091708Z
LAST-MODIFIED:20251203T093638Z
UID:10002483-1844780400-1844787600@stoppestedet.dk
SUMMARY:Mandegruppe på Stoppestedet - Peer to Peer
DESCRIPTION:Kom til snakkegruppe for mænd. Det er en åben gruppe\, hvor vi snakker\, hygger og drikker kaffe. \nVi mødes i KREA rummet på stoppestedet på fredage i ulige uger kl. 15:00-17:00 \nVi ses! \nHilsen Lars og Jesper
URL:https://stoppestedet.dk/aktiviteter/mandegruppe-paa-stoppestedet-2/2028-06-16/
LOCATION:Stoppestedet\, Jernbanegade 24B\, Odense C\, 5000\, Danmark
ATTACH;FMTTYPE=image/jpeg:https://stoppestedet.dk/wp-content/uploads/2024/01/Mandegruppen-1.jpg
END:VEVENT
BEGIN:VEVENT
DTSTART;TZID=Europe/Copenhagen:20280630T150000
DTEND;TZID=Europe/Copenhagen:20280630T170000
DTSTAMP:20260421T092347
CREATED:20251203T091708Z
LAST-MODIFIED:20251203T093638Z
UID:10002484-1845990000-1845997200@stoppestedet.dk
SUMMARY:Mandegruppe på Stoppestedet - Peer to Peer
DESCRIPTION:Kom til snakkegruppe for mænd. Det er en åben gruppe\, hvor vi snakker\, hygger og drikker kaffe. \nVi mødes i KREA rummet på stoppestedet på fredage i ulige uger kl. 15:00-17:00 \nVi ses! \nHilsen Lars og Jesper
URL:https://stoppestedet.dk/aktiviteter/mandegruppe-paa-stoppestedet-2/2028-06-30/
LOCATION:Stoppestedet\, Jernbanegade 24B\, Odense C\, 5000\, Danmark
ATTACH;FMTTYPE=image/jpeg:https://stoppestedet.dk/wp-content/uploads/2024/01/Mandegruppen-1.jpg
END:VEVENT
BEGIN:VEVENT
DTSTART;TZID=Europe/Copenhagen:20280714T150000
DTEND;TZID=Europe/Copenhagen:20280714T170000
DTSTAMP:20260421T092347
CREATED:20251203T091708Z
LAST-MODIFIED:20251203T093638Z
UID:10002485-1847199600-1847206800@stoppestedet.dk
SUMMARY:Mandegruppe på Stoppestedet - Peer to Peer
DESCRIPTION:Kom til snakkegruppe for mænd. Det er en åben gruppe\, hvor vi snakker\, hygger og drikker kaffe. \nVi mødes i KREA rummet på stoppestedet på fredage i ulige uger kl. 15:00-17:00 \nVi ses! \nHilsen Lars og Jesper
URL:https://stoppestedet.dk/aktiviteter/mandegruppe-paa-stoppestedet-2/2028-07-14/
LOCATION:Stoppestedet\, Jernbanegade 24B\, Odense C\, 5000\, Danmark
ATTACH;FMTTYPE=image/jpeg:https://stoppestedet.dk/wp-content/uploads/2024/01/Mandegruppen-1.jpg
END:VEVENT
BEGIN:VEVENT
DTSTART;TZID=Europe/Copenhagen:20280728T150000
DTEND;TZID=Europe/Copenhagen:20280728T170000
DTSTAMP:20260421T092347
CREATED:20251203T091708Z
LAST-MODIFIED:20251203T093638Z
UID:10002486-1848409200-1848416400@stoppestedet.dk
SUMMARY:Mandegruppe på Stoppestedet - Peer to Peer
DESCRIPTION:Kom til snakkegruppe for mænd. Det er en åben gruppe\, hvor vi snakker\, hygger og drikker kaffe. \nVi mødes i KREA rummet på stoppestedet på fredage i ulige uger kl. 15:00-17:00 \nVi ses! \nHilsen Lars og Jesper
URL:https://stoppestedet.dk/aktiviteter/mandegruppe-paa-stoppestedet-2/2028-07-28/
LOCATION:Stoppestedet\, Jernbanegade 24B\, Odense C\, 5000\, Danmark
ATTACH;FMTTYPE=image/jpeg:https://stoppestedet.dk/wp-content/uploads/2024/01/Mandegruppen-1.jpg
END:VEVENT
BEGIN:VEVENT
DTSTART;TZID=Europe/Copenhagen:20280811T150000
DTEND;TZID=Europe/Copenhagen:20280811T170000
DTSTAMP:20260421T092347
CREATED:20251203T091708Z
LAST-MODIFIED:20251203T093638Z
UID:10002487-1849618800-1849626000@stoppestedet.dk
SUMMARY:Mandegruppe på Stoppestedet - Peer to Peer
DESCRIPTION:Kom til snakkegruppe for mænd. Det er en åben gruppe\, hvor vi snakker\, hygger og drikker kaffe. \nVi mødes i KREA rummet på stoppestedet på fredage i ulige uger kl. 15:00-17:00 \nVi ses! \nHilsen Lars og Jesper
URL:https://stoppestedet.dk/aktiviteter/mandegruppe-paa-stoppestedet-2/2028-08-11/
LOCATION:Stoppestedet\, Jernbanegade 24B\, Odense C\, 5000\, Danmark
ATTACH;FMTTYPE=image/jpeg:https://stoppestedet.dk/wp-content/uploads/2024/01/Mandegruppen-1.jpg
END:VEVENT
BEGIN:VEVENT
DTSTART;TZID=Europe/Copenhagen:20280825T150000
DTEND;TZID=Europe/Copenhagen:20280825T170000
DTSTAMP:20260421T092347
CREATED:20251203T091708Z
LAST-MODIFIED:20251203T093638Z
UID:10002488-1850828400-1850835600@stoppestedet.dk
SUMMARY:Mandegruppe på Stoppestedet - Peer to Peer
DESCRIPTION:Kom til snakkegruppe for mænd. Det er en åben gruppe\, hvor vi snakker\, hygger og drikker kaffe. \nVi mødes i KREA rummet på stoppestedet på fredage i ulige uger kl. 15:00-17:00 \nVi ses! \nHilsen Lars og Jesper
URL:https://stoppestedet.dk/aktiviteter/mandegruppe-paa-stoppestedet-2/2028-08-25/
LOCATION:Stoppestedet\, Jernbanegade 24B\, Odense C\, 5000\, Danmark
ATTACH;FMTTYPE=image/jpeg:https://stoppestedet.dk/wp-content/uploads/2024/01/Mandegruppen-1.jpg
END:VEVENT
BEGIN:VEVENT
DTSTART;TZID=Europe/Copenhagen:20280908T150000
DTEND;TZID=Europe/Copenhagen:20280908T170000
DTSTAMP:20260421T092347
CREATED:20251203T091708Z
LAST-MODIFIED:20251203T093638Z
UID:10002489-1852038000-1852045200@stoppestedet.dk
SUMMARY:Mandegruppe på Stoppestedet - Peer to Peer
DESCRIPTION:Kom til snakkegruppe for mænd. Det er en åben gruppe\, hvor vi snakker\, hygger og drikker kaffe. \nVi mødes i KREA rummet på stoppestedet på fredage i ulige uger kl. 15:00-17:00 \nVi ses! \nHilsen Lars og Jesper
URL:https://stoppestedet.dk/aktiviteter/mandegruppe-paa-stoppestedet-2/2028-09-08/
LOCATION:Stoppestedet\, Jernbanegade 24B\, Odense C\, 5000\, Danmark
ATTACH;FMTTYPE=image/jpeg:https://stoppestedet.dk/wp-content/uploads/2024/01/Mandegruppen-1.jpg
END:VEVENT
BEGIN:VEVENT
DTSTART;TZID=Europe/Copenhagen:20280922T150000
DTEND;TZID=Europe/Copenhagen:20280922T170000
DTSTAMP:20260421T092347
CREATED:20251203T091708Z
LAST-MODIFIED:20251203T093638Z
UID:10002490-1853247600-1853254800@stoppestedet.dk
SUMMARY:Mandegruppe på Stoppestedet - Peer to Peer
DESCRIPTION:Kom til snakkegruppe for mænd. Det er en åben gruppe\, hvor vi snakker\, hygger og drikker kaffe. \nVi mødes i KREA rummet på stoppestedet på fredage i ulige uger kl. 15:00-17:00 \nVi ses! \nHilsen Lars og Jesper
URL:https://stoppestedet.dk/aktiviteter/mandegruppe-paa-stoppestedet-2/2028-09-22/
LOCATION:Stoppestedet\, Jernbanegade 24B\, Odense C\, 5000\, Danmark
ATTACH;FMTTYPE=image/jpeg:https://stoppestedet.dk/wp-content/uploads/2024/01/Mandegruppen-1.jpg
END:VEVENT
BEGIN:VEVENT
DTSTART;TZID=Europe/Copenhagen:20281006T150000
DTEND;TZID=Europe/Copenhagen:20281006T170000
DTSTAMP:20260421T092347
CREATED:20251203T091708Z
LAST-MODIFIED:20251203T093638Z
UID:10002491-1854457200-1854464400@stoppestedet.dk
SUMMARY:Mandegruppe på Stoppestedet - Peer to Peer
DESCRIPTION:Kom til snakkegruppe for mænd. Det er en åben gruppe\, hvor vi snakker\, hygger og drikker kaffe. \nVi mødes i KREA rummet på stoppestedet på fredage i ulige uger kl. 15:00-17:00 \nVi ses! \nHilsen Lars og Jesper
URL:https://stoppestedet.dk/aktiviteter/mandegruppe-paa-stoppestedet-2/2028-10-06/
LOCATION:Stoppestedet\, Jernbanegade 24B\, Odense C\, 5000\, Danmark
ATTACH;FMTTYPE=image/jpeg:https://stoppestedet.dk/wp-content/uploads/2024/01/Mandegruppen-1.jpg
END:VEVENT
BEGIN:VEVENT
DTSTART;TZID=Europe/Copenhagen:20281020T150000
DTEND;TZID=Europe/Copenhagen:20281020T170000
DTSTAMP:20260421T092347
CREATED:20251203T091708Z
LAST-MODIFIED:20251203T093638Z
UID:10002492-1855666800-1855674000@stoppestedet.dk
SUMMARY:Mandegruppe på Stoppestedet - Peer to Peer
DESCRIPTION:Kom til snakkegruppe for mænd. Det er en åben gruppe\, hvor vi snakker\, hygger og drikker kaffe. \nVi mødes i KREA rummet på stoppestedet på fredage i ulige uger kl. 15:00-17:00 \nVi ses! \nHilsen Lars og Jesper
URL:https://stoppestedet.dk/aktiviteter/mandegruppe-paa-stoppestedet-2/2028-10-20/
LOCATION:Stoppestedet\, Jernbanegade 24B\, Odense C\, 5000\, Danmark
ATTACH;FMTTYPE=image/jpeg:https://stoppestedet.dk/wp-content/uploads/2024/01/Mandegruppen-1.jpg
END:VEVENT
END:VCALENDAR